BEGIN:VCALENDAR
VERSION:2.0
PRODID:-//Beginnings Inc - ECPv6.15.18//NONSGML v1.0//EN
CALSCALE:GREGORIAN
METHOD:PUBLISH
X-WR-CALNAME:Beginnings Inc
X-ORIGINAL-URL:https://www.beginningsinc.org
X-WR-CALDESC:Events for Beginnings Inc
REFRESH-INTERVAL;VALUE=DURATION:PT1H
X-Robots-Tag:noindex
X-PUBLISHED-TTL:PT1H
BEGIN:VTIMEZONE
TZID:America/New_York
BEGIN:DAYLIGHT
TZOFFSETFROM:-0500
TZOFFSETTO:-0400
TZNAME:EDT
DTSTART:20210314T070000
END:DAYLIGHT
BEGIN:STANDARD
TZOFFSETFROM:-0400
TZOFFSETTO:-0500
TZNAME:EST
DTSTART:20211107T060000
END:STANDARD
BEGIN:DAYLIGHT
TZOFFSETFROM:-0500
TZOFFSETTO:-0400
TZNAME:EDT
DTSTART:20220313T070000
END:DAYLIGHT
BEGIN:STANDARD
TZOFFSETFROM:-0400
TZOFFSETTO:-0500
TZNAME:EST
DTSTART:20221106T060000
END:STANDARD
BEGIN:DAYLIGHT
TZOFFSETFROM:-0500
TZOFFSETTO:-0400
TZNAME:EDT
DTSTART:20230312T070000
END:DAYLIGHT
BEGIN:STANDARD
TZOFFSETFROM:-0400
TZOFFSETTO:-0500
TZNAME:EST
DTSTART:20231105T060000
END:STANDARD
END:VTIMEZONE
BEGIN:VEVENT
DTSTART;TZID=America/New_York:20221107T100000
DTEND;TZID=America/New_York:20221107T120000
DTSTAMP:20260420T023156
CREATED:20210630T203727Z
LAST-MODIFIED:20210810T134630Z
UID:10000585-1667815200-1667822400@www.beginningsinc.org
SUMMARY:Parent & Child Together Playgroup
DESCRIPTION:Join us for our Fall 2021 Session:  \nMondays or Thursdays at 10am in person or Fridays at 10am on Zoom \nSept. 13 – Nov. 5\, 2021   \nTo register contact Ms. Lauren\, LLazzari@Beginningsinc.org / 814-244-5282                                           
URL:https://www.beginningsinc.org/event/parent-child-together-playgroup/2022-11-07/
END:VEVENT
BEGIN:VEVENT
DTSTART;TZID=America/New_York:20221103T100000
DTEND;TZID=America/New_York:20221103T120000
DTSTAMP:20260420T023156
CREATED:20220727T141843Z
LAST-MODIFIED:20220727T141843Z
UID:10000828-1667469600-1667476800@www.beginningsinc.org
SUMMARY:Nutrition Links
DESCRIPTION:
URL:https://www.beginningsinc.org/event/nutrition-links-3/2022-11-03/
END:VEVENT
BEGIN:VEVENT
DTSTART;TZID=America/New_York:20221031T100000
DTEND;TZID=America/New_York:20221031T120000
DTSTAMP:20260420T023156
CREATED:20221003T173431Z
LAST-MODIFIED:20221003T173431Z
UID:10000810-1667210400-1667217600@www.beginningsinc.org
SUMMARY:Drop In PACT
DESCRIPTION:
URL:https://www.beginningsinc.org/event/drop-in-pact-3/
END:VEVENT
BEGIN:VEVENT
DTSTART;TZID=America/New_York:20221031T100000
DTEND;TZID=America/New_York:20221031T120000
DTSTAMP:20260420T023156
CREATED:20210630T203727Z
LAST-MODIFIED:20210810T134630Z
UID:10000584-1667210400-1667217600@www.beginningsinc.org
SUMMARY:Parent & Child Together Playgroup
DESCRIPTION:Join us for our Fall 2021 Session:  \nMondays or Thursdays at 10am in person or Fridays at 10am on Zoom \nSept. 13 – Nov. 5\, 2021   \nTo register contact Ms. Lauren\, LLazzari@Beginningsinc.org / 814-244-5282                                           
URL:https://www.beginningsinc.org/event/parent-child-together-playgroup/2022-10-31/
END:VEVENT
BEGIN:VEVENT
DTSTART;TZID=America/New_York:20221027T100000
DTEND;TZID=America/New_York:20221027T120000
DTSTAMP:20260420T023156
CREATED:20220727T141843Z
LAST-MODIFIED:20220727T141843Z
UID:10000827-1666864800-1666872000@www.beginningsinc.org
SUMMARY:Nutrition Links
DESCRIPTION:
URL:https://www.beginningsinc.org/event/nutrition-links-3/2022-10-27/
END:VEVENT
BEGIN:VEVENT
DTSTART;TZID=America/New_York:20221024T100000
DTEND;TZID=America/New_York:20221024T120000
DTSTAMP:20260420T023156
CREATED:20210630T203727Z
LAST-MODIFIED:20210810T134630Z
UID:10000583-1666605600-1666612800@www.beginningsinc.org
SUMMARY:Parent & Child Together Playgroup
DESCRIPTION:Join us for our Fall 2021 Session:  \nMondays or Thursdays at 10am in person or Fridays at 10am on Zoom \nSept. 13 – Nov. 5\, 2021   \nTo register contact Ms. Lauren\, LLazzari@Beginningsinc.org / 814-244-5282                                           
URL:https://www.beginningsinc.org/event/parent-child-together-playgroup/2022-10-24/
END:VEVENT
BEGIN:VEVENT
DTSTART;TZID=America/New_York:20221020T100000
DTEND;TZID=America/New_York:20221020T120000
DTSTAMP:20260420T023156
CREATED:20220727T141843Z
LAST-MODIFIED:20220727T141843Z
UID:10000826-1666260000-1666267200@www.beginningsinc.org
SUMMARY:Nutrition Links
DESCRIPTION:
URL:https://www.beginningsinc.org/event/nutrition-links-3/2022-10-20/
END:VEVENT
BEGIN:VEVENT
DTSTART;TZID=America/New_York:20221017T100000
DTEND;TZID=America/New_York:20221017T120000
DTSTAMP:20260420T023156
CREATED:20221003T173355Z
LAST-MODIFIED:20221003T173355Z
UID:10000811-1666000800-1666008000@www.beginningsinc.org
SUMMARY:Drop In PACT
DESCRIPTION:
URL:https://www.beginningsinc.org/event/drop-in-pact-2/
END:VEVENT
BEGIN:VEVENT
DTSTART;TZID=America/New_York:20221017T100000
DTEND;TZID=America/New_York:20221017T120000
DTSTAMP:20260420T023156
CREATED:20210630T203727Z
LAST-MODIFIED:20210810T134630Z
UID:10000582-1666000800-1666008000@www.beginningsinc.org
SUMMARY:Parent & Child Together Playgroup
DESCRIPTION:Join us for our Fall 2021 Session:  \nMondays or Thursdays at 10am in person or Fridays at 10am on Zoom \nSept. 13 – Nov. 5\, 2021   \nTo register contact Ms. Lauren\, LLazzari@Beginningsinc.org / 814-244-5282                                           
URL:https://www.beginningsinc.org/event/parent-child-together-playgroup/2022-10-17/
END:VEVENT
BEGIN:VEVENT
DTSTART;TZID=America/New_York:20221013T100000
DTEND;TZID=America/New_York:20221013T120000
DTSTAMP:20260420T023156
CREATED:20220727T141843Z
LAST-MODIFIED:20220727T141843Z
UID:10000825-1665655200-1665662400@www.beginningsinc.org
SUMMARY:Nutrition Links
DESCRIPTION:
URL:https://www.beginningsinc.org/event/nutrition-links-3/2022-10-13/
END:VEVENT
BEGIN:VEVENT
DTSTART;TZID=America/New_York:20221010T100000
DTEND;TZID=America/New_York:20221010T120000
DTSTAMP:20260420T023156
CREATED:20210630T203727Z
LAST-MODIFIED:20210810T134630Z
UID:10000581-1665396000-1665403200@www.beginningsinc.org
SUMMARY:Parent & Child Together Playgroup
DESCRIPTION:Join us for our Fall 2021 Session:  \nMondays or Thursdays at 10am in person or Fridays at 10am on Zoom \nSept. 13 – Nov. 5\, 2021   \nTo register contact Ms. Lauren\, LLazzari@Beginningsinc.org / 814-244-5282                                           
URL:https://www.beginningsinc.org/event/parent-child-together-playgroup/2022-10-10/
END:VEVENT
BEGIN:VEVENT
DTSTART;TZID=America/New_York:20221006T100000
DTEND;TZID=America/New_York:20221006T120000
DTSTAMP:20260420T023156
CREATED:20220727T141843Z
LAST-MODIFIED:20220727T141843Z
UID:10000824-1665050400-1665057600@www.beginningsinc.org
SUMMARY:Nutrition Links
DESCRIPTION:
URL:https://www.beginningsinc.org/event/nutrition-links-3/2022-10-06/
END:VEVENT
BEGIN:VEVENT
DTSTART;TZID=America/New_York:20221003T100000
DTEND;TZID=America/New_York:20221003T120000
DTSTAMP:20260420T023156
CREATED:20210630T203727Z
LAST-MODIFIED:20210810T134630Z
UID:10000580-1664791200-1664798400@www.beginningsinc.org
SUMMARY:Parent & Child Together Playgroup
DESCRIPTION:Join us for our Fall 2021 Session:  \nMondays or Thursdays at 10am in person or Fridays at 10am on Zoom \nSept. 13 – Nov. 5\, 2021   \nTo register contact Ms. Lauren\, LLazzari@Beginningsinc.org / 814-244-5282                                           
URL:https://www.beginningsinc.org/event/parent-child-together-playgroup/2022-10-03/
END:VEVENT
BEGIN:VEVENT
DTSTART;TZID=America/New_York:20220929T100000
DTEND;TZID=America/New_York:20220929T120000
DTSTAMP:20260420T023156
CREATED:20220727T141843Z
LAST-MODIFIED:20220727T141843Z
UID:10000823-1664445600-1664452800@www.beginningsinc.org
SUMMARY:Nutrition Links
DESCRIPTION:
URL:https://www.beginningsinc.org/event/nutrition-links-3/2022-09-29/
END:VEVENT
BEGIN:VEVENT
DTSTART;TZID=America/New_York:20220926T100000
DTEND;TZID=America/New_York:20220926T120000
DTSTAMP:20260420T023156
CREATED:20220912T131006Z
LAST-MODIFIED:20221003T173301Z
UID:10000799-1664186400-1664193600@www.beginningsinc.org
SUMMARY:Drop In PACT
DESCRIPTION:
URL:https://www.beginningsinc.org/event/drop-in-pact/2022-09-26/
END:VEVENT
BEGIN:VEVENT
DTSTART;TZID=America/New_York:20220926T100000
DTEND;TZID=America/New_York:20220926T120000
DTSTAMP:20260420T023156
CREATED:20210630T203727Z
LAST-MODIFIED:20210810T134630Z
UID:10000579-1664186400-1664193600@www.beginningsinc.org
SUMMARY:Parent & Child Together Playgroup
DESCRIPTION:Join us for our Fall 2021 Session:  \nMondays or Thursdays at 10am in person or Fridays at 10am on Zoom \nSept. 13 – Nov. 5\, 2021   \nTo register contact Ms. Lauren\, LLazzari@Beginningsinc.org / 814-244-5282                                           
URL:https://www.beginningsinc.org/event/parent-child-together-playgroup/2022-09-26/
END:VEVENT
BEGIN:VEVENT
DTSTART;TZID=America/New_York:20220922T180000
DTEND;TZID=America/New_York:20220922T210000
DTSTAMP:20260420T023156
CREATED:20220620T123329Z
LAST-MODIFIED:20220620T123329Z
UID:10000830-1663869600-1663880400@www.beginningsinc.org
SUMMARY:CASA Fall Volunteer Training Session
DESCRIPTION:Have you ever wanted to make a difference in the life of a child who has experienced abuse or neglect? Become a CASA volunteer and you can!\nCambria/Somerset CASA is now recruiting volunteers for our Virtual Fall 2022 Training Session! Training begins in late Septemeber. There are five virtual training sessions lasting approximately 3 hours each\, plus 15 hours of independent online work completed over 5 weeks. All 5 Virtual Sessions will be held via Zoom.\n\nYou can submit a Volunteer Application to join this Training Session at this link.\nOnce a completed application is received\, a member of our Program Staff will be in touch!\n\nFeel free to reach out to our Program Staff at anytime with questions:\nTyler Smay\, Program Director – tsmay@beginningsinc.org\nShemariel Gray\, Advocate Supervisor – sgray@beginningsinc.org\n\n\n*You must complete an application\, interview\, and background checks prior to beginning training.*
URL:https://www.beginningsinc.org/event/casa-fall-volunteer-training-session/
END:VEVENT
BEGIN:VEVENT
DTSTART;TZID=America/New_York:20220919T100000
DTEND;TZID=America/New_York:20220919T120000
DTSTAMP:20260420T023156
CREATED:20210630T203727Z
LAST-MODIFIED:20210810T134630Z
UID:10000578-1663581600-1663588800@www.beginningsinc.org
SUMMARY:Parent & Child Together Playgroup
DESCRIPTION:Join us for our Fall 2021 Session:  \nMondays or Thursdays at 10am in person or Fridays at 10am on Zoom \nSept. 13 – Nov. 5\, 2021   \nTo register contact Ms. Lauren\, LLazzari@Beginningsinc.org / 814-244-5282                                           
URL:https://www.beginningsinc.org/event/parent-child-together-playgroup/2022-09-19/
END:VEVENT
BEGIN:VEVENT
DTSTART;TZID=America/New_York:20220918T140000
DTEND;TZID=America/New_York:20220918T160000
DTSTAMP:20260420T023156
CREATED:20220817T182109Z
LAST-MODIFIED:20220817T182109Z
UID:10000822-1663509600-1663516800@www.beginningsinc.org
SUMMARY:Trip to the Farm
DESCRIPTION:
URL:https://www.beginningsinc.org/event/trip-to-the-farm/
END:VEVENT
BEGIN:VEVENT
DTSTART;TZID=America/New_York:20220912T100000
DTEND;TZID=America/New_York:20220912T120000
DTSTAMP:20260420T023156
CREATED:20210630T203727Z
LAST-MODIFIED:20210810T134630Z
UID:10000577-1662976800-1662984000@www.beginningsinc.org
SUMMARY:Parent & Child Together Playgroup
DESCRIPTION:Join us for our Fall 2021 Session:  \nMondays or Thursdays at 10am in person or Fridays at 10am on Zoom \nSept. 13 – Nov. 5\, 2021   \nTo register contact Ms. Lauren\, LLazzari@Beginningsinc.org / 814-244-5282                                           
URL:https://www.beginningsinc.org/event/parent-child-together-playgroup/2022-09-12/
END:VEVENT
BEGIN:VEVENT
DTSTART;TZID=America/New_York:20220905T100000
DTEND;TZID=America/New_York:20220905T120000
DTSTAMP:20260420T023156
CREATED:20210630T203727Z
LAST-MODIFIED:20210810T134630Z
UID:10000576-1662372000-1662379200@www.beginningsinc.org
SUMMARY:Parent & Child Together Playgroup
DESCRIPTION:Join us for our Fall 2021 Session:  \nMondays or Thursdays at 10am in person or Fridays at 10am on Zoom \nSept. 13 – Nov. 5\, 2021   \nTo register contact Ms. Lauren\, LLazzari@Beginningsinc.org / 814-244-5282                                           
URL:https://www.beginningsinc.org/event/parent-child-together-playgroup/2022-09-05/
END:VEVENT
BEGIN:VEVENT
DTSTART;TZID=America/New_York:20220829T100000
DTEND;TZID=America/New_York:20220829T120000
DTSTAMP:20260420T023156
CREATED:20210630T203727Z
LAST-MODIFIED:20210810T134630Z
UID:10000575-1661767200-1661774400@www.beginningsinc.org
SUMMARY:Parent & Child Together Playgroup
DESCRIPTION:Join us for our Fall 2021 Session:  \nMondays or Thursdays at 10am in person or Fridays at 10am on Zoom \nSept. 13 – Nov. 5\, 2021   \nTo register contact Ms. Lauren\, LLazzari@Beginningsinc.org / 814-244-5282                                           
URL:https://www.beginningsinc.org/event/parent-child-together-playgroup/2022-08-29/
END:VEVENT
BEGIN:VEVENT
DTSTART;TZID=America/New_York:20220825T153000
DTEND;TZID=America/New_York:20220825T180000
DTSTAMP:20260420T023156
CREATED:20220720T124214Z
LAST-MODIFIED:20220720T124214Z
UID:10000829-1661441400-1661450400@www.beginningsinc.org
SUMMARY:CASA Information Session
DESCRIPTION:Join us as we welcome our current Volunteers to bring along someone else who may be interested in joining the CASA Family to learn more about what a CASA Volunteer does and how to get involved.\n\nAlso open to the public! Anyone interested in learning more about CASA is welcome to attend. Feel free to stop in anytime during the session to chat with us.\nThere will be drinks and light refreshments\, as well as a chance at winning door prizes for those who attend.\n\nThose interested in attending should RSVP to a member of our Program Staff by August 18th.\n\nProgram Director Tyler Smay\ntsmay@beginningsinc.org\n814-242-9634\n\nAdvocate Supervisor Shemariel Gray\nsgray@beginningsinc.org\n814-659-4165 \nSee less
URL:https://www.beginningsinc.org/event/casa-information-session/
LOCATION:Beginnings\, Inc.\, 111 Market Street\, Johnstown\, PA\, 15901\, United States
END:VEVENT
BEGIN:VEVENT
DTSTART;TZID=America/New_York:20220822T100000
DTEND;TZID=America/New_York:20220822T120000
DTSTAMP:20260420T023156
CREATED:20210630T203727Z
LAST-MODIFIED:20210810T134630Z
UID:10000574-1661162400-1661169600@www.beginningsinc.org
SUMMARY:Parent & Child Together Playgroup
DESCRIPTION:Join us for our Fall 2021 Session:  \nMondays or Thursdays at 10am in person or Fridays at 10am on Zoom \nSept. 13 – Nov. 5\, 2021   \nTo register contact Ms. Lauren\, LLazzari@Beginningsinc.org / 814-244-5282                                           
URL:https://www.beginningsinc.org/event/parent-child-together-playgroup/2022-08-22/
END:VEVENT
BEGIN:VEVENT
DTSTART;TZID=America/New_York:20220815T100000
DTEND;TZID=America/New_York:20220815T120000
DTSTAMP:20260420T023156
CREATED:20210630T203727Z
LAST-MODIFIED:20210810T134630Z
UID:10000573-1660557600-1660564800@www.beginningsinc.org
SUMMARY:Parent & Child Together Playgroup
DESCRIPTION:Join us for our Fall 2021 Session:  \nMondays or Thursdays at 10am in person or Fridays at 10am on Zoom \nSept. 13 – Nov. 5\, 2021   \nTo register contact Ms. Lauren\, LLazzari@Beginningsinc.org / 814-244-5282                                           
URL:https://www.beginningsinc.org/event/parent-child-together-playgroup/2022-08-15/
END:VEVENT
BEGIN:VEVENT
DTSTART;TZID=America/New_York:20220808T100000
DTEND;TZID=America/New_York:20220808T120000
DTSTAMP:20260420T023156
CREATED:20210630T203727Z
LAST-MODIFIED:20210810T134630Z
UID:10000572-1659952800-1659960000@www.beginningsinc.org
SUMMARY:Parent & Child Together Playgroup
DESCRIPTION:Join us for our Fall 2021 Session:  \nMondays or Thursdays at 10am in person or Fridays at 10am on Zoom \nSept. 13 – Nov. 5\, 2021   \nTo register contact Ms. Lauren\, LLazzari@Beginningsinc.org / 814-244-5282                                           
URL:https://www.beginningsinc.org/event/parent-child-together-playgroup/2022-08-08/
END:VEVENT
BEGIN:VEVENT
DTSTART;TZID=America/New_York:20220801T100000
DTEND;TZID=America/New_York:20220801T120000
DTSTAMP:20260420T023156
CREATED:20220526T170927Z
LAST-MODIFIED:20220526T172009Z
UID:10000838-1659348000-1659355200@www.beginningsinc.org
SUMMARY:PACT-Goals & Assests
DESCRIPTION:
URL:https://www.beginningsinc.org/event/pact-goals-assests/2022-08-01/
END:VEVENT
BEGIN:VEVENT
DTSTART;TZID=America/New_York:20220801T100000
DTEND;TZID=America/New_York:20220801T120000
DTSTAMP:20260420T023156
CREATED:20210630T203727Z
LAST-MODIFIED:20210810T134630Z
UID:10000571-1659348000-1659355200@www.beginningsinc.org
SUMMARY:Parent & Child Together Playgroup
DESCRIPTION:Join us for our Fall 2021 Session:  \nMondays or Thursdays at 10am in person or Fridays at 10am on Zoom \nSept. 13 – Nov. 5\, 2021   \nTo register contact Ms. Lauren\, LLazzari@Beginningsinc.org / 814-244-5282                                           
URL:https://www.beginningsinc.org/event/parent-child-together-playgroup/2022-08-01/
END:VEVENT
BEGIN:VEVENT
DTSTART;TZID=America/New_York:20220725T100000
DTEND;TZID=America/New_York:20220725T120000
DTSTAMP:20260420T023156
CREATED:20220526T170927Z
LAST-MODIFIED:20220526T172009Z
UID:10000837-1658743200-1658750400@www.beginningsinc.org
SUMMARY:PACT-Goals & Assests
DESCRIPTION:
URL:https://www.beginningsinc.org/event/pact-goals-assests/2022-07-25/
END:VEVENT
BEGIN:VEVENT
DTSTART;TZID=America/New_York:20220725T100000
DTEND;TZID=America/New_York:20220725T120000
DTSTAMP:20260420T023156
CREATED:20210630T203727Z
LAST-MODIFIED:20210810T134630Z
UID:10000570-1658743200-1658750400@www.beginningsinc.org
SUMMARY:Parent & Child Together Playgroup
DESCRIPTION:Join us for our Fall 2021 Session:  \nMondays or Thursdays at 10am in person or Fridays at 10am on Zoom \nSept. 13 – Nov. 5\, 2021   \nTo register contact Ms. Lauren\, LLazzari@Beginningsinc.org / 814-244-5282                                           
URL:https://www.beginningsinc.org/event/parent-child-together-playgroup/2022-07-25/
END:VEVENT
END:VCALENDAR