BEGIN:VCALENDAR
VERSION:2.0
PRODID:-//Beginnings Inc - ECPv6.15.18//NONSGML v1.0//EN
CALSCALE:GREGORIAN
METHOD:PUBLISH
X-WR-CALNAME:Beginnings Inc
X-ORIGINAL-URL:https://www.beginningsinc.org
X-WR-CALDESC:Events for Beginnings Inc
REFRESH-INTERVAL;VALUE=DURATION:PT1H
X-Robots-Tag:noindex
X-PUBLISHED-TTL:PT1H
BEGIN:VTIMEZONE
TZID:America/New_York
BEGIN:DAYLIGHT
TZOFFSETFROM:-0500
TZOFFSETTO:-0400
TZNAME:EDT
DTSTART:20210314T070000
END:DAYLIGHT
BEGIN:STANDARD
TZOFFSETFROM:-0400
TZOFFSETTO:-0500
TZNAME:EST
DTSTART:20211107T060000
END:STANDARD
BEGIN:DAYLIGHT
TZOFFSETFROM:-0500
TZOFFSETTO:-0400
TZNAME:EDT
DTSTART:20220313T070000
END:DAYLIGHT
BEGIN:STANDARD
TZOFFSETFROM:-0400
TZOFFSETTO:-0500
TZNAME:EST
DTSTART:20221106T060000
END:STANDARD
BEGIN:DAYLIGHT
TZOFFSETFROM:-0500
TZOFFSETTO:-0400
TZNAME:EDT
DTSTART:20230312T070000
END:DAYLIGHT
BEGIN:STANDARD
TZOFFSETFROM:-0400
TZOFFSETTO:-0500
TZNAME:EST
DTSTART:20231105T060000
END:STANDARD
END:VTIMEZONE
BEGIN:VEVENT
DTSTART;TZID=America/New_York:20220905T100000
DTEND;TZID=America/New_York:20220905T120000
DTSTAMP:20260419T125128
CREATED:20210630T203727Z
LAST-MODIFIED:20210810T134630Z
UID:10000576-1662372000-1662379200@www.beginningsinc.org
SUMMARY:Parent & Child Together Playgroup
DESCRIPTION:Join us for our Fall 2021 Session:  \nMondays or Thursdays at 10am in person or Fridays at 10am on Zoom \nSept. 13 – Nov. 5\, 2021   \nTo register contact Ms. Lauren\, LLazzari@Beginningsinc.org / 814-244-5282                                           
URL:https://www.beginningsinc.org/event/parent-child-together-playgroup/2022-09-05/
END:VEVENT
BEGIN:VEVENT
DTSTART;TZID=America/New_York:20220829T100000
DTEND;TZID=America/New_York:20220829T120000
DTSTAMP:20260419T125128
CREATED:20210630T203727Z
LAST-MODIFIED:20210810T134630Z
UID:10000575-1661767200-1661774400@www.beginningsinc.org
SUMMARY:Parent & Child Together Playgroup
DESCRIPTION:Join us for our Fall 2021 Session:  \nMondays or Thursdays at 10am in person or Fridays at 10am on Zoom \nSept. 13 – Nov. 5\, 2021   \nTo register contact Ms. Lauren\, LLazzari@Beginningsinc.org / 814-244-5282                                           
URL:https://www.beginningsinc.org/event/parent-child-together-playgroup/2022-08-29/
END:VEVENT
BEGIN:VEVENT
DTSTART;TZID=America/New_York:20220825T153000
DTEND;TZID=America/New_York:20220825T180000
DTSTAMP:20260419T125128
CREATED:20220720T124214Z
LAST-MODIFIED:20220720T124214Z
UID:10000829-1661441400-1661450400@www.beginningsinc.org
SUMMARY:CASA Information Session
DESCRIPTION:Join us as we welcome our current Volunteers to bring along someone else who may be interested in joining the CASA Family to learn more about what a CASA Volunteer does and how to get involved.\n\nAlso open to the public! Anyone interested in learning more about CASA is welcome to attend. Feel free to stop in anytime during the session to chat with us.\nThere will be drinks and light refreshments\, as well as a chance at winning door prizes for those who attend.\n\nThose interested in attending should RSVP to a member of our Program Staff by August 18th.\n\nProgram Director Tyler Smay\ntsmay@beginningsinc.org\n814-242-9634\n\nAdvocate Supervisor Shemariel Gray\nsgray@beginningsinc.org\n814-659-4165 \nSee less
URL:https://www.beginningsinc.org/event/casa-information-session/
LOCATION:Beginnings\, Inc.\, 111 Market Street\, Johnstown\, PA\, 15901\, United States
END:VEVENT
BEGIN:VEVENT
DTSTART;TZID=America/New_York:20220822T100000
DTEND;TZID=America/New_York:20220822T120000
DTSTAMP:20260419T125128
CREATED:20210630T203727Z
LAST-MODIFIED:20210810T134630Z
UID:10000574-1661162400-1661169600@www.beginningsinc.org
SUMMARY:Parent & Child Together Playgroup
DESCRIPTION:Join us for our Fall 2021 Session:  \nMondays or Thursdays at 10am in person or Fridays at 10am on Zoom \nSept. 13 – Nov. 5\, 2021   \nTo register contact Ms. Lauren\, LLazzari@Beginningsinc.org / 814-244-5282                                           
URL:https://www.beginningsinc.org/event/parent-child-together-playgroup/2022-08-22/
END:VEVENT
BEGIN:VEVENT
DTSTART;TZID=America/New_York:20220815T100000
DTEND;TZID=America/New_York:20220815T120000
DTSTAMP:20260419T125128
CREATED:20210630T203727Z
LAST-MODIFIED:20210810T134630Z
UID:10000573-1660557600-1660564800@www.beginningsinc.org
SUMMARY:Parent & Child Together Playgroup
DESCRIPTION:Join us for our Fall 2021 Session:  \nMondays or Thursdays at 10am in person or Fridays at 10am on Zoom \nSept. 13 – Nov. 5\, 2021   \nTo register contact Ms. Lauren\, LLazzari@Beginningsinc.org / 814-244-5282                                           
URL:https://www.beginningsinc.org/event/parent-child-together-playgroup/2022-08-15/
END:VEVENT
BEGIN:VEVENT
DTSTART;TZID=America/New_York:20220808T100000
DTEND;TZID=America/New_York:20220808T120000
DTSTAMP:20260419T125128
CREATED:20210630T203727Z
LAST-MODIFIED:20210810T134630Z
UID:10000572-1659952800-1659960000@www.beginningsinc.org
SUMMARY:Parent & Child Together Playgroup
DESCRIPTION:Join us for our Fall 2021 Session:  \nMondays or Thursdays at 10am in person or Fridays at 10am on Zoom \nSept. 13 – Nov. 5\, 2021   \nTo register contact Ms. Lauren\, LLazzari@Beginningsinc.org / 814-244-5282                                           
URL:https://www.beginningsinc.org/event/parent-child-together-playgroup/2022-08-08/
END:VEVENT
BEGIN:VEVENT
DTSTART;TZID=America/New_York:20220801T100000
DTEND;TZID=America/New_York:20220801T120000
DTSTAMP:20260419T125128
CREATED:20220526T170927Z
LAST-MODIFIED:20220526T172009Z
UID:10000838-1659348000-1659355200@www.beginningsinc.org
SUMMARY:PACT-Goals & Assests
DESCRIPTION:
URL:https://www.beginningsinc.org/event/pact-goals-assests/2022-08-01/
END:VEVENT
BEGIN:VEVENT
DTSTART;TZID=America/New_York:20220801T100000
DTEND;TZID=America/New_York:20220801T120000
DTSTAMP:20260419T125128
CREATED:20210630T203727Z
LAST-MODIFIED:20210810T134630Z
UID:10000571-1659348000-1659355200@www.beginningsinc.org
SUMMARY:Parent & Child Together Playgroup
DESCRIPTION:Join us for our Fall 2021 Session:  \nMondays or Thursdays at 10am in person or Fridays at 10am on Zoom \nSept. 13 – Nov. 5\, 2021   \nTo register contact Ms. Lauren\, LLazzari@Beginningsinc.org / 814-244-5282                                           
URL:https://www.beginningsinc.org/event/parent-child-together-playgroup/2022-08-01/
END:VEVENT
BEGIN:VEVENT
DTSTART;TZID=America/New_York:20220725T100000
DTEND;TZID=America/New_York:20220725T120000
DTSTAMP:20260419T125128
CREATED:20220526T170927Z
LAST-MODIFIED:20220526T172009Z
UID:10000837-1658743200-1658750400@www.beginningsinc.org
SUMMARY:PACT-Goals & Assests
DESCRIPTION:
URL:https://www.beginningsinc.org/event/pact-goals-assests/2022-07-25/
END:VEVENT
BEGIN:VEVENT
DTSTART;TZID=America/New_York:20220725T100000
DTEND;TZID=America/New_York:20220725T120000
DTSTAMP:20260419T125128
CREATED:20210630T203727Z
LAST-MODIFIED:20210810T134630Z
UID:10000570-1658743200-1658750400@www.beginningsinc.org
SUMMARY:Parent & Child Together Playgroup
DESCRIPTION:Join us for our Fall 2021 Session:  \nMondays or Thursdays at 10am in person or Fridays at 10am on Zoom \nSept. 13 – Nov. 5\, 2021   \nTo register contact Ms. Lauren\, LLazzari@Beginningsinc.org / 814-244-5282                                           
URL:https://www.beginningsinc.org/event/parent-child-together-playgroup/2022-07-25/
END:VEVENT
BEGIN:VEVENT
DTSTART;TZID=America/New_York:20220718T100000
DTEND;TZID=America/New_York:20220718T120000
DTSTAMP:20260419T125128
CREATED:20220526T170927Z
LAST-MODIFIED:20220526T172009Z
UID:10000836-1658138400-1658145600@www.beginningsinc.org
SUMMARY:PACT-Goals & Assests
DESCRIPTION:
URL:https://www.beginningsinc.org/event/pact-goals-assests/2022-07-18/
END:VEVENT
BEGIN:VEVENT
DTSTART;TZID=America/New_York:20220718T100000
DTEND;TZID=America/New_York:20220718T120000
DTSTAMP:20260419T125128
CREATED:20210630T203727Z
LAST-MODIFIED:20210810T134630Z
UID:10000569-1658138400-1658145600@www.beginningsinc.org
SUMMARY:Parent & Child Together Playgroup
DESCRIPTION:Join us for our Fall 2021 Session:  \nMondays or Thursdays at 10am in person or Fridays at 10am on Zoom \nSept. 13 – Nov. 5\, 2021   \nTo register contact Ms. Lauren\, LLazzari@Beginningsinc.org / 814-244-5282                                           
URL:https://www.beginningsinc.org/event/parent-child-together-playgroup/2022-07-18/
END:VEVENT
BEGIN:VEVENT
DTSTART;TZID=America/New_York:20220716T110000
DTEND;TZID=America/New_York:20220716T150000
DTSTAMP:20260419T125128
CREATED:20220620T122851Z
LAST-MODIFIED:20220620T123357Z
UID:10000831-1657969200-1657983600@www.beginningsinc.org
SUMMARY:CASA 25th Anniversary Picnic
DESCRIPTION:This year\, Cambria/Somerset CASA is recognizing 25 years of Advocacy in Cambria County!\n\nJoin us Saturday\, July 16th at Greenhouse Park as we host a Picnic for current & former CASA Volunteers\, as well as anyone from the public who wants to show their support or hear more about our Mission.\n\nThere will be food\, drinks\, games\, prizes\, and more!
URL:https://www.beginningsinc.org/event/casa-25th-anniversary-picnic/
END:VEVENT
BEGIN:VEVENT
DTSTART;TZID=America/New_York:20220711T100000
DTEND;TZID=America/New_York:20220711T120000
DTSTAMP:20260419T125128
CREATED:20220526T170927Z
LAST-MODIFIED:20220526T172009Z
UID:10000835-1657533600-1657540800@www.beginningsinc.org
SUMMARY:PACT-Goals & Assests
DESCRIPTION:
URL:https://www.beginningsinc.org/event/pact-goals-assests/2022-07-11/
END:VEVENT
BEGIN:VEVENT
DTSTART;TZID=America/New_York:20220711T100000
DTEND;TZID=America/New_York:20220711T120000
DTSTAMP:20260419T125128
CREATED:20210630T203727Z
LAST-MODIFIED:20210810T134630Z
UID:10000568-1657533600-1657540800@www.beginningsinc.org
SUMMARY:Parent & Child Together Playgroup
DESCRIPTION:Join us for our Fall 2021 Session:  \nMondays or Thursdays at 10am in person or Fridays at 10am on Zoom \nSept. 13 – Nov. 5\, 2021   \nTo register contact Ms. Lauren\, LLazzari@Beginningsinc.org / 814-244-5282                                           
URL:https://www.beginningsinc.org/event/parent-child-together-playgroup/2022-07-11/
END:VEVENT
BEGIN:VEVENT
DTSTART;TZID=America/New_York:20220704T100000
DTEND;TZID=America/New_York:20220704T120000
DTSTAMP:20260419T125128
CREATED:20210630T203727Z
LAST-MODIFIED:20210810T134630Z
UID:10000567-1656928800-1656936000@www.beginningsinc.org
SUMMARY:Parent & Child Together Playgroup
DESCRIPTION:Join us for our Fall 2021 Session:  \nMondays or Thursdays at 10am in person or Fridays at 10am on Zoom \nSept. 13 – Nov. 5\, 2021   \nTo register contact Ms. Lauren\, LLazzari@Beginningsinc.org / 814-244-5282                                           
URL:https://www.beginningsinc.org/event/parent-child-together-playgroup/2022-07-04/
END:VEVENT
BEGIN:VEVENT
DTSTART;TZID=America/New_York:20220627T100000
DTEND;TZID=America/New_York:20220627T120000
DTSTAMP:20260419T125128
CREATED:20220526T170927Z
LAST-MODIFIED:20220526T172009Z
UID:10000834-1656324000-1656331200@www.beginningsinc.org
SUMMARY:PACT-Goals & Assests
DESCRIPTION:
URL:https://www.beginningsinc.org/event/pact-goals-assests/2022-06-27/
END:VEVENT
BEGIN:VEVENT
DTSTART;TZID=America/New_York:20220627T100000
DTEND;TZID=America/New_York:20220627T120000
DTSTAMP:20260419T125128
CREATED:20210630T203727Z
LAST-MODIFIED:20210810T134630Z
UID:10000566-1656324000-1656331200@www.beginningsinc.org
SUMMARY:Parent & Child Together Playgroup
DESCRIPTION:Join us for our Fall 2021 Session:  \nMondays or Thursdays at 10am in person or Fridays at 10am on Zoom \nSept. 13 – Nov. 5\, 2021   \nTo register contact Ms. Lauren\, LLazzari@Beginningsinc.org / 814-244-5282                                           
URL:https://www.beginningsinc.org/event/parent-child-together-playgroup/2022-06-27/
END:VEVENT
BEGIN:VEVENT
DTSTART;TZID=America/New_York:20220620T100000
DTEND;TZID=America/New_York:20220620T120000
DTSTAMP:20260419T125128
CREATED:20220526T170927Z
LAST-MODIFIED:20220526T172009Z
UID:10000833-1655719200-1655726400@www.beginningsinc.org
SUMMARY:PACT-Goals & Assests
DESCRIPTION:
URL:https://www.beginningsinc.org/event/pact-goals-assests/2022-06-20/
END:VEVENT
BEGIN:VEVENT
DTSTART;TZID=America/New_York:20220620T100000
DTEND;TZID=America/New_York:20220620T120000
DTSTAMP:20260419T125128
CREATED:20210630T203727Z
LAST-MODIFIED:20210810T134630Z
UID:10000565-1655719200-1655726400@www.beginningsinc.org
SUMMARY:Parent & Child Together Playgroup
DESCRIPTION:Join us for our Fall 2021 Session:  \nMondays or Thursdays at 10am in person or Fridays at 10am on Zoom \nSept. 13 – Nov. 5\, 2021   \nTo register contact Ms. Lauren\, LLazzari@Beginningsinc.org / 814-244-5282                                           
URL:https://www.beginningsinc.org/event/parent-child-together-playgroup/2022-06-20/
END:VEVENT
BEGIN:VEVENT
DTSTART;TZID=America/New_York:20220615T130000
DTEND;TZID=America/New_York:20220615T150000
DTSTAMP:20260419T125128
CREATED:20220526T171348Z
LAST-MODIFIED:20220526T171348Z
UID:10000832-1655298000-1655305200@www.beginningsinc.org
SUMMARY:2nd Annual Roll & Read
DESCRIPTION:
URL:https://www.beginningsinc.org/event/2nd-annual-roll-read/
END:VEVENT
BEGIN:VEVENT
DTSTART;TZID=America/New_York:20220613T100000
DTEND;TZID=America/New_York:20220613T120000
DTSTAMP:20260419T125128
CREATED:20210630T203727Z
LAST-MODIFIED:20210810T134630Z
UID:10000564-1655114400-1655121600@www.beginningsinc.org
SUMMARY:Parent & Child Together Playgroup
DESCRIPTION:Join us for our Fall 2021 Session:  \nMondays or Thursdays at 10am in person or Fridays at 10am on Zoom \nSept. 13 – Nov. 5\, 2021   \nTo register contact Ms. Lauren\, LLazzari@Beginningsinc.org / 814-244-5282                                           
URL:https://www.beginningsinc.org/event/parent-child-together-playgroup/2022-06-13/
END:VEVENT
BEGIN:VEVENT
DTSTART;TZID=America/New_York:20220606T100000
DTEND;TZID=America/New_York:20220606T120000
DTSTAMP:20260419T125128
CREATED:20210630T203727Z
LAST-MODIFIED:20210810T134630Z
UID:10000563-1654509600-1654516800@www.beginningsinc.org
SUMMARY:Parent & Child Together Playgroup
DESCRIPTION:Join us for our Fall 2021 Session:  \nMondays or Thursdays at 10am in person or Fridays at 10am on Zoom \nSept. 13 – Nov. 5\, 2021   \nTo register contact Ms. Lauren\, LLazzari@Beginningsinc.org / 814-244-5282                                           
URL:https://www.beginningsinc.org/event/parent-child-together-playgroup/2022-06-06/
END:VEVENT
BEGIN:VEVENT
DTSTART;TZID=America/New_York:20220530T100000
DTEND;TZID=America/New_York:20220530T120000
DTSTAMP:20260419T125128
CREATED:20210630T203727Z
LAST-MODIFIED:20210810T134630Z
UID:10000562-1653904800-1653912000@www.beginningsinc.org
SUMMARY:Parent & Child Together Playgroup
DESCRIPTION:Join us for our Fall 2021 Session:  \nMondays or Thursdays at 10am in person or Fridays at 10am on Zoom \nSept. 13 – Nov. 5\, 2021   \nTo register contact Ms. Lauren\, LLazzari@Beginningsinc.org / 814-244-5282                                           
URL:https://www.beginningsinc.org/event/parent-child-together-playgroup/2022-05-30/
END:VEVENT
BEGIN:VEVENT
DTSTART;TZID=America/New_York:20220526T100000
DTEND;TZID=America/New_York:20220526T120000
DTSTAMP:20260419T125128
CREATED:20220419T181742Z
LAST-MODIFIED:20220419T181742Z
UID:10000848-1653559200-1653566400@www.beginningsinc.org
SUMMARY:Spring PACT
DESCRIPTION:
URL:https://www.beginningsinc.org/event/spring-pact/2022-05-26/
END:VEVENT
BEGIN:VEVENT
DTSTART;TZID=America/New_York:20220523T100000
DTEND;TZID=America/New_York:20220523T120000
DTSTAMP:20260419T125128
CREATED:20220419T181742Z
LAST-MODIFIED:20220419T181742Z
UID:10000847-1653300000-1653307200@www.beginningsinc.org
SUMMARY:Spring PACT
DESCRIPTION:
URL:https://www.beginningsinc.org/event/spring-pact/2022-05-23/
END:VEVENT
BEGIN:VEVENT
DTSTART;TZID=America/New_York:20220523T100000
DTEND;TZID=America/New_York:20220523T120000
DTSTAMP:20260419T125128
CREATED:20210630T203727Z
LAST-MODIFIED:20210810T134630Z
UID:10000561-1653300000-1653307200@www.beginningsinc.org
SUMMARY:Parent & Child Together Playgroup
DESCRIPTION:Join us for our Fall 2021 Session:  \nMondays or Thursdays at 10am in person or Fridays at 10am on Zoom \nSept. 13 – Nov. 5\, 2021   \nTo register contact Ms. Lauren\, LLazzari@Beginningsinc.org / 814-244-5282                                           
URL:https://www.beginningsinc.org/event/parent-child-together-playgroup/2022-05-23/
END:VEVENT
BEGIN:VEVENT
DTSTART;TZID=America/New_York:20220519T100000
DTEND;TZID=America/New_York:20220519T120000
DTSTAMP:20260419T125128
CREATED:20220419T181742Z
LAST-MODIFIED:20220419T181742Z
UID:10000846-1652954400-1652961600@www.beginningsinc.org
SUMMARY:Spring PACT
DESCRIPTION:
URL:https://www.beginningsinc.org/event/spring-pact/2022-05-19/
END:VEVENT
BEGIN:VEVENT
DTSTART;TZID=America/New_York:20220516T100000
DTEND;TZID=America/New_York:20220516T120000
DTSTAMP:20260419T125128
CREATED:20220419T181742Z
LAST-MODIFIED:20220419T181742Z
UID:10000845-1652695200-1652702400@www.beginningsinc.org
SUMMARY:Spring PACT
DESCRIPTION:
URL:https://www.beginningsinc.org/event/spring-pact/2022-05-16/
END:VEVENT
BEGIN:VEVENT
DTSTART;TZID=America/New_York:20220516T100000
DTEND;TZID=America/New_York:20220516T120000
DTSTAMP:20260419T125128
CREATED:20210630T203727Z
LAST-MODIFIED:20210810T134630Z
UID:10000560-1652695200-1652702400@www.beginningsinc.org
SUMMARY:Parent & Child Together Playgroup
DESCRIPTION:Join us for our Fall 2021 Session:  \nMondays or Thursdays at 10am in person or Fridays at 10am on Zoom \nSept. 13 – Nov. 5\, 2021   \nTo register contact Ms. Lauren\, LLazzari@Beginningsinc.org / 814-244-5282                                           
URL:https://www.beginningsinc.org/event/parent-child-together-playgroup/2022-05-16/
END:VEVENT
END:VCALENDAR