BEGIN:VCALENDAR
VERSION:2.0
PRODID:-//Beginnings Inc - ECPv6.15.18//NONSGML v1.0//EN
CALSCALE:GREGORIAN
METHOD:PUBLISH
X-WR-CALNAME:Beginnings Inc
X-ORIGINAL-URL:https://www.beginningsinc.org
X-WR-CALDESC:Events for Beginnings Inc
REFRESH-INTERVAL;VALUE=DURATION:PT1H
X-Robots-Tag:noindex
X-PUBLISHED-TTL:PT1H
BEGIN:VTIMEZONE
TZID:America/New_York
BEGIN:DAYLIGHT
TZOFFSETFROM:-0500
TZOFFSETTO:-0400
TZNAME:EDT
DTSTART:20200308T070000
END:DAYLIGHT
BEGIN:STANDARD
TZOFFSETFROM:-0400
TZOFFSETTO:-0500
TZNAME:EST
DTSTART:20201101T060000
END:STANDARD
BEGIN:DAYLIGHT
TZOFFSETFROM:-0500
TZOFFSETTO:-0400
TZNAME:EDT
DTSTART:20210314T070000
END:DAYLIGHT
BEGIN:STANDARD
TZOFFSETFROM:-0400
TZOFFSETTO:-0500
TZNAME:EST
DTSTART:20211107T060000
END:STANDARD
BEGIN:DAYLIGHT
TZOFFSETFROM:-0500
TZOFFSETTO:-0400
TZNAME:EDT
DTSTART:20220313T070000
END:DAYLIGHT
BEGIN:STANDARD
TZOFFSETFROM:-0400
TZOFFSETTO:-0500
TZNAME:EST
DTSTART:20221106T060000
END:STANDARD
BEGIN:DAYLIGHT
TZOFFSETFROM:-0500
TZOFFSETTO:-0400
TZNAME:EDT
DTSTART:20230312T070000
END:DAYLIGHT
BEGIN:STANDARD
TZOFFSETFROM:-0400
TZOFFSETTO:-0500
TZNAME:EST
DTSTART:20231105T060000
END:STANDARD
END:VTIMEZONE
BEGIN:VEVENT
DTSTART;TZID=America/New_York:20220422T140000
DTEND;TZID=America/New_York:20220422T160000
DTSTAMP:20260420T032708
CREATED:20220322T211036Z
LAST-MODIFIED:20220322T211036Z
UID:10000849-1650636000-1650643200@www.beginningsinc.org
SUMMARY:Spring Field Trip
DESCRIPTION:
URL:https://www.beginningsinc.org/event/spring-field-trip/
END:VEVENT
BEGIN:VEVENT
DTSTART;TZID=America/New_York:20220418T100000
DTEND;TZID=America/New_York:20220418T120000
DTSTAMP:20260420T032708
CREATED:20210630T203727Z
LAST-MODIFIED:20210810T134630Z
UID:10000556-1650276000-1650283200@www.beginningsinc.org
SUMMARY:Parent & Child Together Playgroup
DESCRIPTION:Join us for our Fall 2021 Session:  \nMondays or Thursdays at 10am in person or Fridays at 10am on Zoom \nSept. 13 – Nov. 5\, 2021   \nTo register contact Ms. Lauren\, LLazzari@Beginningsinc.org / 814-244-5282                                           
URL:https://www.beginningsinc.org/event/parent-child-together-playgroup/2022-04-18/
END:VEVENT
BEGIN:VEVENT
DTSTART;TZID=America/New_York:20220411T100000
DTEND;TZID=America/New_York:20220411T120000
DTSTAMP:20260420T032708
CREATED:20210630T203727Z
LAST-MODIFIED:20210810T134630Z
UID:10000555-1649671200-1649678400@www.beginningsinc.org
SUMMARY:Parent & Child Together Playgroup
DESCRIPTION:Join us for our Fall 2021 Session:  \nMondays or Thursdays at 10am in person or Fridays at 10am on Zoom \nSept. 13 – Nov. 5\, 2021   \nTo register contact Ms. Lauren\, LLazzari@Beginningsinc.org / 814-244-5282                                           
URL:https://www.beginningsinc.org/event/parent-child-together-playgroup/2022-04-11/
END:VEVENT
BEGIN:VEVENT
DTSTART;TZID=America/New_York:20220404T100000
DTEND;TZID=America/New_York:20220404T120000
DTSTAMP:20260420T032708
CREATED:20210630T203727Z
LAST-MODIFIED:20210810T134630Z
UID:10000554-1649066400-1649073600@www.beginningsinc.org
SUMMARY:Parent & Child Together Playgroup
DESCRIPTION:Join us for our Fall 2021 Session:  \nMondays or Thursdays at 10am in person or Fridays at 10am on Zoom \nSept. 13 – Nov. 5\, 2021   \nTo register contact Ms. Lauren\, LLazzari@Beginningsinc.org / 814-244-5282                                           
URL:https://www.beginningsinc.org/event/parent-child-together-playgroup/2022-04-04/
END:VEVENT
BEGIN:VEVENT
DTSTART;TZID=America/New_York:20220328T100000
DTEND;TZID=America/New_York:20220328T120000
DTSTAMP:20260420T032708
CREATED:20210630T203727Z
LAST-MODIFIED:20210810T134630Z
UID:10000553-1648461600-1648468800@www.beginningsinc.org
SUMMARY:Parent & Child Together Playgroup
DESCRIPTION:Join us for our Fall 2021 Session:  \nMondays or Thursdays at 10am in person or Fridays at 10am on Zoom \nSept. 13 – Nov. 5\, 2021   \nTo register contact Ms. Lauren\, LLazzari@Beginningsinc.org / 814-244-5282                                           
URL:https://www.beginningsinc.org/event/parent-child-together-playgroup/2022-03-28/
END:VEVENT
BEGIN:VEVENT
DTSTART;TZID=America/New_York:20220321T100000
DTEND;TZID=America/New_York:20220321T120000
DTSTAMP:20260420T032708
CREATED:20210630T203727Z
LAST-MODIFIED:20210810T134630Z
UID:10000552-1647856800-1647864000@www.beginningsinc.org
SUMMARY:Parent & Child Together Playgroup
DESCRIPTION:Join us for our Fall 2021 Session:  \nMondays or Thursdays at 10am in person or Fridays at 10am on Zoom \nSept. 13 – Nov. 5\, 2021   \nTo register contact Ms. Lauren\, LLazzari@Beginningsinc.org / 814-244-5282                                           
URL:https://www.beginningsinc.org/event/parent-child-together-playgroup/2022-03-21/
END:VEVENT
BEGIN:VEVENT
DTSTART;TZID=America/New_York:20220318T100000
DTEND;TZID=America/New_York:20220318T110000
DTSTAMP:20260420T032708
CREATED:20211217T205651Z
LAST-MODIFIED:20211217T205651Z
UID:10000821-1647597600-1647601200@www.beginningsinc.org
SUMMARY:Winter PACT
DESCRIPTION:Join Ms. Lauren on zoom as we learn all about Winter for our next Parent & Child Together PACT session.  Classes will be online at 10am on Fridays from January 14- March 18\, 2021. Register at: https://us02web.zoom.us/meeting/register/tZcod-isrzMvGtdzAbEMU-U31qZ0WbINCxuB Contact Ms. Lauren at LLazzari@Beginningsinc.org / 814-244-5282 with any questions.  Registered participants will receive a Winter book and activity bag. 
URL:https://www.beginningsinc.org/event/winter-pact/2022-03-18/
END:VEVENT
BEGIN:VEVENT
DTSTART;TZID=America/New_York:20220314T100000
DTEND;TZID=America/New_York:20220314T120000
DTSTAMP:20260420T032708
CREATED:20210630T203727Z
LAST-MODIFIED:20210810T134630Z
UID:10000551-1647252000-1647259200@www.beginningsinc.org
SUMMARY:Parent & Child Together Playgroup
DESCRIPTION:Join us for our Fall 2021 Session:  \nMondays or Thursdays at 10am in person or Fridays at 10am on Zoom \nSept. 13 – Nov. 5\, 2021   \nTo register contact Ms. Lauren\, LLazzari@Beginningsinc.org / 814-244-5282                                           
URL:https://www.beginningsinc.org/event/parent-child-together-playgroup/2022-03-14/
END:VEVENT
BEGIN:VEVENT
DTSTART;TZID=America/New_York:20220311T100000
DTEND;TZID=America/New_York:20220311T110000
DTSTAMP:20260420T032708
CREATED:20211217T205651Z
LAST-MODIFIED:20211217T205651Z
UID:10000820-1646992800-1646996400@www.beginningsinc.org
SUMMARY:Winter PACT
DESCRIPTION:Join Ms. Lauren on zoom as we learn all about Winter for our next Parent & Child Together PACT session.  Classes will be online at 10am on Fridays from January 14- March 18\, 2021. Register at: https://us02web.zoom.us/meeting/register/tZcod-isrzMvGtdzAbEMU-U31qZ0WbINCxuB Contact Ms. Lauren at LLazzari@Beginningsinc.org / 814-244-5282 with any questions.  Registered participants will receive a Winter book and activity bag. 
URL:https://www.beginningsinc.org/event/winter-pact/2022-03-11/
END:VEVENT
BEGIN:VEVENT
DTSTART;TZID=America/New_York:20220310T100000
DTEND;TZID=America/New_York:20220310T120000
DTSTAMP:20260420T032708
CREATED:20220224T145208Z
LAST-MODIFIED:20220224T145208Z
UID:10000851-1646906400-1646913600@www.beginningsinc.org
SUMMARY:PACT with the Johnstown Symphony Orchestra
DESCRIPTION:
URL:https://www.beginningsinc.org/event/pact-with-the-johnstown-symphony-orchestra/2022-03-10/
END:VEVENT
BEGIN:VEVENT
DTSTART;TZID=America/New_York:20220307T100000
DTEND;TZID=America/New_York:20220307T120000
DTSTAMP:20260420T032708
CREATED:20210630T203727Z
LAST-MODIFIED:20210810T134630Z
UID:10000550-1646647200-1646654400@www.beginningsinc.org
SUMMARY:Parent & Child Together Playgroup
DESCRIPTION:Join us for our Fall 2021 Session:  \nMondays or Thursdays at 10am in person or Fridays at 10am on Zoom \nSept. 13 – Nov. 5\, 2021   \nTo register contact Ms. Lauren\, LLazzari@Beginningsinc.org / 814-244-5282                                           
URL:https://www.beginningsinc.org/event/parent-child-together-playgroup/2022-03-07/
END:VEVENT
BEGIN:VEVENT
DTSTART;TZID=America/New_York:20220304T100000
DTEND;TZID=America/New_York:20220304T110000
DTSTAMP:20260420T032708
CREATED:20211217T205651Z
LAST-MODIFIED:20211217T205651Z
UID:10000819-1646388000-1646391600@www.beginningsinc.org
SUMMARY:Winter PACT
DESCRIPTION:Join Ms. Lauren on zoom as we learn all about Winter for our next Parent & Child Together PACT session.  Classes will be online at 10am on Fridays from January 14- March 18\, 2021. Register at: https://us02web.zoom.us/meeting/register/tZcod-isrzMvGtdzAbEMU-U31qZ0WbINCxuB Contact Ms. Lauren at LLazzari@Beginningsinc.org / 814-244-5282 with any questions.  Registered participants will receive a Winter book and activity bag. 
URL:https://www.beginningsinc.org/event/winter-pact/2022-03-04/
END:VEVENT
BEGIN:VEVENT
DTSTART;TZID=America/New_York:20220303T100000
DTEND;TZID=America/New_York:20220303T120000
DTSTAMP:20260420T032708
CREATED:20220224T145208Z
LAST-MODIFIED:20220224T145208Z
UID:10000850-1646301600-1646308800@www.beginningsinc.org
SUMMARY:PACT with the Johnstown Symphony Orchestra
DESCRIPTION:
URL:https://www.beginningsinc.org/event/pact-with-the-johnstown-symphony-orchestra/2022-03-03/
END:VEVENT
BEGIN:VEVENT
DTSTART;TZID=America/New_York:20220228T100000
DTEND;TZID=America/New_York:20220228T120000
DTSTAMP:20260420T032708
CREATED:20210630T203727Z
LAST-MODIFIED:20210810T134630Z
UID:10000549-1646042400-1646049600@www.beginningsinc.org
SUMMARY:Parent & Child Together Playgroup
DESCRIPTION:Join us for our Fall 2021 Session:  \nMondays or Thursdays at 10am in person or Fridays at 10am on Zoom \nSept. 13 – Nov. 5\, 2021   \nTo register contact Ms. Lauren\, LLazzari@Beginningsinc.org / 814-244-5282                                           
URL:https://www.beginningsinc.org/event/parent-child-together-playgroup/2022-02-28/
END:VEVENT
BEGIN:VEVENT
DTSTART;TZID=America/New_York:20220225T100000
DTEND;TZID=America/New_York:20220225T110000
DTSTAMP:20260420T032708
CREATED:20211217T205651Z
LAST-MODIFIED:20211217T205651Z
UID:10000818-1645783200-1645786800@www.beginningsinc.org
SUMMARY:Winter PACT
DESCRIPTION:Join Ms. Lauren on zoom as we learn all about Winter for our next Parent & Child Together PACT session.  Classes will be online at 10am on Fridays from January 14- March 18\, 2021. Register at: https://us02web.zoom.us/meeting/register/tZcod-isrzMvGtdzAbEMU-U31qZ0WbINCxuB Contact Ms. Lauren at LLazzari@Beginningsinc.org / 814-244-5282 with any questions.  Registered participants will receive a Winter book and activity bag. 
URL:https://www.beginningsinc.org/event/winter-pact/2022-02-25/
END:VEVENT
BEGIN:VEVENT
DTSTART;TZID=America/New_York:20220221T100000
DTEND;TZID=America/New_York:20220221T120000
DTSTAMP:20260420T032708
CREATED:20210630T203727Z
LAST-MODIFIED:20210810T134630Z
UID:10000548-1645437600-1645444800@www.beginningsinc.org
SUMMARY:Parent & Child Together Playgroup
DESCRIPTION:Join us for our Fall 2021 Session:  \nMondays or Thursdays at 10am in person or Fridays at 10am on Zoom \nSept. 13 – Nov. 5\, 2021   \nTo register contact Ms. Lauren\, LLazzari@Beginningsinc.org / 814-244-5282                                           
URL:https://www.beginningsinc.org/event/parent-child-together-playgroup/2022-02-21/
END:VEVENT
BEGIN:VEVENT
DTSTART;TZID=America/New_York:20220218T100000
DTEND;TZID=America/New_York:20220218T110000
DTSTAMP:20260420T032708
CREATED:20211217T205651Z
LAST-MODIFIED:20211217T205651Z
UID:10000817-1645178400-1645182000@www.beginningsinc.org
SUMMARY:Winter PACT
DESCRIPTION:Join Ms. Lauren on zoom as we learn all about Winter for our next Parent & Child Together PACT session.  Classes will be online at 10am on Fridays from January 14- March 18\, 2021. Register at: https://us02web.zoom.us/meeting/register/tZcod-isrzMvGtdzAbEMU-U31qZ0WbINCxuB Contact Ms. Lauren at LLazzari@Beginningsinc.org / 814-244-5282 with any questions.  Registered participants will receive a Winter book and activity bag. 
URL:https://www.beginningsinc.org/event/winter-pact/2022-02-18/
END:VEVENT
BEGIN:VEVENT
DTSTART;TZID=America/New_York:20220214T100000
DTEND;TZID=America/New_York:20220214T120000
DTSTAMP:20260420T032708
CREATED:20210630T203727Z
LAST-MODIFIED:20210810T134630Z
UID:10000547-1644832800-1644840000@www.beginningsinc.org
SUMMARY:Parent & Child Together Playgroup
DESCRIPTION:Join us for our Fall 2021 Session:  \nMondays or Thursdays at 10am in person or Fridays at 10am on Zoom \nSept. 13 – Nov. 5\, 2021   \nTo register contact Ms. Lauren\, LLazzari@Beginningsinc.org / 814-244-5282                                           
URL:https://www.beginningsinc.org/event/parent-child-together-playgroup/2022-02-14/
END:VEVENT
BEGIN:VEVENT
DTSTART;TZID=America/New_York:20220211T100000
DTEND;TZID=America/New_York:20220211T110000
DTSTAMP:20260420T032708
CREATED:20211217T205651Z
LAST-MODIFIED:20211217T205651Z
UID:10000816-1644573600-1644577200@www.beginningsinc.org
SUMMARY:Winter PACT
DESCRIPTION:Join Ms. Lauren on zoom as we learn all about Winter for our next Parent & Child Together PACT session.  Classes will be online at 10am on Fridays from January 14- March 18\, 2021. Register at: https://us02web.zoom.us/meeting/register/tZcod-isrzMvGtdzAbEMU-U31qZ0WbINCxuB Contact Ms. Lauren at LLazzari@Beginningsinc.org / 814-244-5282 with any questions.  Registered participants will receive a Winter book and activity bag. 
URL:https://www.beginningsinc.org/event/winter-pact/2022-02-11/
END:VEVENT
BEGIN:VEVENT
DTSTART;TZID=America/New_York:20220207T100000
DTEND;TZID=America/New_York:20220207T120000
DTSTAMP:20260420T032708
CREATED:20210630T203727Z
LAST-MODIFIED:20210810T134630Z
UID:10000546-1644228000-1644235200@www.beginningsinc.org
SUMMARY:Parent & Child Together Playgroup
DESCRIPTION:Join us for our Fall 2021 Session:  \nMondays or Thursdays at 10am in person or Fridays at 10am on Zoom \nSept. 13 – Nov. 5\, 2021   \nTo register contact Ms. Lauren\, LLazzari@Beginningsinc.org / 814-244-5282                                           
URL:https://www.beginningsinc.org/event/parent-child-together-playgroup/2022-02-07/
END:VEVENT
BEGIN:VEVENT
DTSTART;TZID=America/New_York:20220204T100000
DTEND;TZID=America/New_York:20220204T110000
DTSTAMP:20260420T032708
CREATED:20211217T205651Z
LAST-MODIFIED:20211217T205651Z
UID:10000815-1643968800-1643972400@www.beginningsinc.org
SUMMARY:Winter PACT
DESCRIPTION:Join Ms. Lauren on zoom as we learn all about Winter for our next Parent & Child Together PACT session.  Classes will be online at 10am on Fridays from January 14- March 18\, 2021. Register at: https://us02web.zoom.us/meeting/register/tZcod-isrzMvGtdzAbEMU-U31qZ0WbINCxuB Contact Ms. Lauren at LLazzari@Beginningsinc.org / 814-244-5282 with any questions.  Registered participants will receive a Winter book and activity bag. 
URL:https://www.beginningsinc.org/event/winter-pact/2022-02-04/
END:VEVENT
BEGIN:VEVENT
DTSTART;TZID=America/New_York:20220131T100000
DTEND;TZID=America/New_York:20220131T120000
DTSTAMP:20260420T032708
CREATED:20210630T203727Z
LAST-MODIFIED:20210810T134630Z
UID:10000545-1643623200-1643630400@www.beginningsinc.org
SUMMARY:Parent & Child Together Playgroup
DESCRIPTION:Join us for our Fall 2021 Session:  \nMondays or Thursdays at 10am in person or Fridays at 10am on Zoom \nSept. 13 – Nov. 5\, 2021   \nTo register contact Ms. Lauren\, LLazzari@Beginningsinc.org / 814-244-5282                                           
URL:https://www.beginningsinc.org/event/parent-child-together-playgroup/2022-01-31/
END:VEVENT
BEGIN:VEVENT
DTSTART;TZID=America/New_York:20220128T100000
DTEND;TZID=America/New_York:20220128T110000
DTSTAMP:20260420T032708
CREATED:20211217T205651Z
LAST-MODIFIED:20211217T205651Z
UID:10000814-1643364000-1643367600@www.beginningsinc.org
SUMMARY:Winter PACT
DESCRIPTION:Join Ms. Lauren on zoom as we learn all about Winter for our next Parent & Child Together PACT session.  Classes will be online at 10am on Fridays from January 14- March 18\, 2021. Register at: https://us02web.zoom.us/meeting/register/tZcod-isrzMvGtdzAbEMU-U31qZ0WbINCxuB Contact Ms. Lauren at LLazzari@Beginningsinc.org / 814-244-5282 with any questions.  Registered participants will receive a Winter book and activity bag. 
URL:https://www.beginningsinc.org/event/winter-pact/2022-01-28/
END:VEVENT
BEGIN:VEVENT
DTSTART;TZID=America/New_York:20220124T100000
DTEND;TZID=America/New_York:20220124T120000
DTSTAMP:20260420T032708
CREATED:20210630T203727Z
LAST-MODIFIED:20210810T134630Z
UID:10000544-1643018400-1643025600@www.beginningsinc.org
SUMMARY:Parent & Child Together Playgroup
DESCRIPTION:Join us for our Fall 2021 Session:  \nMondays or Thursdays at 10am in person or Fridays at 10am on Zoom \nSept. 13 – Nov. 5\, 2021   \nTo register contact Ms. Lauren\, LLazzari@Beginningsinc.org / 814-244-5282                                           
URL:https://www.beginningsinc.org/event/parent-child-together-playgroup/2022-01-24/
END:VEVENT
BEGIN:VEVENT
DTSTART;TZID=America/New_York:20220121T100000
DTEND;TZID=America/New_York:20220121T110000
DTSTAMP:20260420T032708
CREATED:20211217T205651Z
LAST-MODIFIED:20211217T205651Z
UID:10000813-1642759200-1642762800@www.beginningsinc.org
SUMMARY:Winter PACT
DESCRIPTION:Join Ms. Lauren on zoom as we learn all about Winter for our next Parent & Child Together PACT session.  Classes will be online at 10am on Fridays from January 14- March 18\, 2021. Register at: https://us02web.zoom.us/meeting/register/tZcod-isrzMvGtdzAbEMU-U31qZ0WbINCxuB Contact Ms. Lauren at LLazzari@Beginningsinc.org / 814-244-5282 with any questions.  Registered participants will receive a Winter book and activity bag. 
URL:https://www.beginningsinc.org/event/winter-pact/2022-01-21/
END:VEVENT
BEGIN:VEVENT
DTSTART;TZID=America/New_York:20220117T100000
DTEND;TZID=America/New_York:20220117T120000
DTSTAMP:20260420T032708
CREATED:20210630T203727Z
LAST-MODIFIED:20210810T134630Z
UID:10000543-1642413600-1642420800@www.beginningsinc.org
SUMMARY:Parent & Child Together Playgroup
DESCRIPTION:Join us for our Fall 2021 Session:  \nMondays or Thursdays at 10am in person or Fridays at 10am on Zoom \nSept. 13 – Nov. 5\, 2021   \nTo register contact Ms. Lauren\, LLazzari@Beginningsinc.org / 814-244-5282                                           
URL:https://www.beginningsinc.org/event/parent-child-together-playgroup/2022-01-17/
END:VEVENT
BEGIN:VEVENT
DTSTART;TZID=America/New_York:20220114T100000
DTEND;TZID=America/New_York:20220114T110000
DTSTAMP:20260420T032708
CREATED:20211217T205651Z
LAST-MODIFIED:20211217T205651Z
UID:10000812-1642154400-1642158000@www.beginningsinc.org
SUMMARY:Winter PACT
DESCRIPTION:Join Ms. Lauren on zoom as we learn all about Winter for our next Parent & Child Together PACT session.  Classes will be online at 10am on Fridays from January 14- March 18\, 2021. Register at: https://us02web.zoom.us/meeting/register/tZcod-isrzMvGtdzAbEMU-U31qZ0WbINCxuB Contact Ms. Lauren at LLazzari@Beginningsinc.org / 814-244-5282 with any questions.  Registered participants will receive a Winter book and activity bag. 
URL:https://www.beginningsinc.org/event/winter-pact/2022-01-14/
END:VEVENT
BEGIN:VEVENT
DTSTART;TZID=America/New_York:20220110T100000
DTEND;TZID=America/New_York:20220110T120000
DTSTAMP:20260420T032708
CREATED:20210630T203727Z
LAST-MODIFIED:20210810T134630Z
UID:10000542-1641808800-1641816000@www.beginningsinc.org
SUMMARY:Parent & Child Together Playgroup
DESCRIPTION:Join us for our Fall 2021 Session:  \nMondays or Thursdays at 10am in person or Fridays at 10am on Zoom \nSept. 13 – Nov. 5\, 2021   \nTo register contact Ms. Lauren\, LLazzari@Beginningsinc.org / 814-244-5282                                           
URL:https://www.beginningsinc.org/event/parent-child-together-playgroup/2022-01-10/
END:VEVENT
BEGIN:VEVENT
DTSTART;TZID=America/New_York:20220103T100000
DTEND;TZID=America/New_York:20220103T120000
DTSTAMP:20260420T032708
CREATED:20210630T203727Z
LAST-MODIFIED:20210810T134630Z
UID:10000541-1641204000-1641211200@www.beginningsinc.org
SUMMARY:Parent & Child Together Playgroup
DESCRIPTION:Join us for our Fall 2021 Session:  \nMondays or Thursdays at 10am in person or Fridays at 10am on Zoom \nSept. 13 – Nov. 5\, 2021   \nTo register contact Ms. Lauren\, LLazzari@Beginningsinc.org / 814-244-5282                                           
URL:https://www.beginningsinc.org/event/parent-child-together-playgroup/2022-01-03/
END:VEVENT
BEGIN:VEVENT
DTSTART;TZID=America/New_York:20211227T100000
DTEND;TZID=America/New_York:20211227T120000
DTSTAMP:20260420T032708
CREATED:20210630T203727Z
LAST-MODIFIED:20210810T134630Z
UID:10000540-1640599200-1640606400@www.beginningsinc.org
SUMMARY:Parent & Child Together Playgroup
DESCRIPTION:Join us for our Fall 2021 Session:  \nMondays or Thursdays at 10am in person or Fridays at 10am on Zoom \nSept. 13 – Nov. 5\, 2021   \nTo register contact Ms. Lauren\, LLazzari@Beginningsinc.org / 814-244-5282                                           
URL:https://www.beginningsinc.org/event/parent-child-together-playgroup/2021-12-27/
END:VEVENT
END:VCALENDAR