BEGIN:VCALENDAR
VERSION:2.0
PRODID:-//Beginnings Inc - ECPv6.15.18//NONSGML v1.0//EN
CALSCALE:GREGORIAN
METHOD:PUBLISH
X-WR-CALNAME:Beginnings Inc
X-ORIGINAL-URL:https://www.beginningsinc.org
X-WR-CALDESC:Events for Beginnings Inc
REFRESH-INTERVAL;VALUE=DURATION:PT1H
X-Robots-Tag:noindex
X-PUBLISHED-TTL:PT1H
BEGIN:VTIMEZONE
TZID:America/New_York
BEGIN:DAYLIGHT
TZOFFSETFROM:-0500
TZOFFSETTO:-0400
TZNAME:EDT
DTSTART:20190310T070000
END:DAYLIGHT
BEGIN:STANDARD
TZOFFSETFROM:-0400
TZOFFSETTO:-0500
TZNAME:EST
DTSTART:20191103T060000
END:STANDARD
BEGIN:DAYLIGHT
TZOFFSETFROM:-0500
TZOFFSETTO:-0400
TZNAME:EDT
DTSTART:20200308T070000
END:DAYLIGHT
BEGIN:STANDARD
TZOFFSETFROM:-0400
TZOFFSETTO:-0500
TZNAME:EST
DTSTART:20201101T060000
END:STANDARD
BEGIN:DAYLIGHT
TZOFFSETFROM:-0500
TZOFFSETTO:-0400
TZNAME:EDT
DTSTART:20210314T070000
END:DAYLIGHT
BEGIN:STANDARD
TZOFFSETFROM:-0400
TZOFFSETTO:-0500
TZNAME:EST
DTSTART:20211107T060000
END:STANDARD
END:VTIMEZONE
BEGIN:VEVENT
DTSTART;TZID=America/New_York:20200513T093000
DTEND;TZID=America/New_York:20200513T103000
DTSTAMP:20260422T211512
CREATED:20200511T155347Z
LAST-MODIFIED:20201202T145609Z
UID:10000763-1589362200-1589365800@www.beginningsinc.org
SUMMARY:Mother to Mother - Breastfeeding Support Group
DESCRIPTION:Join us the second Wednesday of every month at 9:30am on Zoom. \nTalk\, vent\, related with others who are having similar trials and joys of parenting and breastfeeding children. \nContact Ms. Nicole for more information\,\nndanchanko@beginningsinc.org or 814-244-9530. \nZoom link is below:\nhttps://us02web.zoom.us/j/4024404586 \n 
URL:https://www.beginningsinc.org/event/mother-to-mother-breastfeeding-support-group/2020-05-13/
LOCATION:Zoom
END:VEVENT
BEGIN:VEVENT
DTSTART;VALUE=DATE:20200410
DTEND;VALUE=DATE:20200411
DTSTAMP:20260422T211512
CREATED:20191210T174127Z
LAST-MODIFIED:20191210T174155Z
UID:10000761-1586476800-1586563199@www.beginningsinc.org
SUMMARY:Beginnings\, Inc. Office CLOSED
DESCRIPTION:The Beginnings\, Inc. office will be closed on April 10th\, 2020 in observance of Good Friday. \n 
URL:https://www.beginningsinc.org/event/beginnings-inc-office-closed-3/
END:VEVENT
BEGIN:VEVENT
DTSTART;TZID=America/New_York:20200406T100000
DTEND;TZID=America/New_York:20200406T120000
DTSTAMP:20260422T211512
CREATED:20191209T175925Z
LAST-MODIFIED:20191209T181000Z
UID:10000678-1586167200-1586174400@www.beginningsinc.org
SUMMARY:PACT Playgroup
DESCRIPTION:The 2020 Winter PACT Playgroup will begin in January and run through April. Winter sessions will be held on Monday’s\, Tuesday’s\, Thursday’s\, and Friday’s from 10am-12pm at the Beginnings\, Inc. playroom. The theme for the winter sessions is transportation. Beep beep! Vroom! \n 
URL:https://www.beginningsinc.org/event/pact-playgroup-2/2020-04-06/
LOCATION:Beginnings\, Inc.\, 111 Market Street\, Johnstown\, PA\, 15901\, United States
END:VEVENT
BEGIN:VEVENT
DTSTART;TZID=America/New_York:20200403T100000
DTEND;TZID=America/New_York:20200403T120000
DTSTAMP:20260422T211512
CREATED:20191209T175925Z
LAST-MODIFIED:20191209T181000Z
UID:10000677-1585908000-1585915200@www.beginningsinc.org
SUMMARY:PACT Playgroup
DESCRIPTION:The 2020 Winter PACT Playgroup will begin in January and run through April. Winter sessions will be held on Monday’s\, Tuesday’s\, Thursday’s\, and Friday’s from 10am-12pm at the Beginnings\, Inc. playroom. The theme for the winter sessions is transportation. Beep beep! Vroom! \n 
URL:https://www.beginningsinc.org/event/pact-playgroup-2/2020-04-03/
LOCATION:Beginnings\, Inc.\, 111 Market Street\, Johnstown\, PA\, 15901\, United States
END:VEVENT
BEGIN:VEVENT
DTSTART;TZID=America/New_York:20200402T100000
DTEND;TZID=America/New_York:20200402T120000
DTSTAMP:20260422T211512
CREATED:20191209T175925Z
LAST-MODIFIED:20191209T181000Z
UID:10000676-1585821600-1585828800@www.beginningsinc.org
SUMMARY:PACT Playgroup
DESCRIPTION:The 2020 Winter PACT Playgroup will begin in January and run through April. Winter sessions will be held on Monday’s\, Tuesday’s\, Thursday’s\, and Friday’s from 10am-12pm at the Beginnings\, Inc. playroom. The theme for the winter sessions is transportation. Beep beep! Vroom! \n 
URL:https://www.beginningsinc.org/event/pact-playgroup-2/2020-04-02/
LOCATION:Beginnings\, Inc.\, 111 Market Street\, Johnstown\, PA\, 15901\, United States
END:VEVENT
BEGIN:VEVENT
DTSTART;TZID=America/New_York:20200331T100000
DTEND;TZID=America/New_York:20200331T120000
DTSTAMP:20260422T211512
CREATED:20191209T175925Z
LAST-MODIFIED:20191209T181000Z
UID:10000675-1585648800-1585656000@www.beginningsinc.org
SUMMARY:PACT Playgroup
DESCRIPTION:The 2020 Winter PACT Playgroup will begin in January and run through April. Winter sessions will be held on Monday’s\, Tuesday’s\, Thursday’s\, and Friday’s from 10am-12pm at the Beginnings\, Inc. playroom. The theme for the winter sessions is transportation. Beep beep! Vroom! \n 
URL:https://www.beginningsinc.org/event/pact-playgroup-2/2020-03-31/
LOCATION:Beginnings\, Inc.\, 111 Market Street\, Johnstown\, PA\, 15901\, United States
END:VEVENT
BEGIN:VEVENT
DTSTART;TZID=America/New_York:20200330T100000
DTEND;TZID=America/New_York:20200330T120000
DTSTAMP:20260422T211512
CREATED:20191209T175925Z
LAST-MODIFIED:20191209T181000Z
UID:10000674-1585562400-1585569600@www.beginningsinc.org
SUMMARY:PACT Playgroup
DESCRIPTION:The 2020 Winter PACT Playgroup will begin in January and run through April. Winter sessions will be held on Monday’s\, Tuesday’s\, Thursday’s\, and Friday’s from 10am-12pm at the Beginnings\, Inc. playroom. The theme for the winter sessions is transportation. Beep beep! Vroom! \n 
URL:https://www.beginningsinc.org/event/pact-playgroup-2/2020-03-30/
LOCATION:Beginnings\, Inc.\, 111 Market Street\, Johnstown\, PA\, 15901\, United States
END:VEVENT
BEGIN:VEVENT
DTSTART;TZID=America/New_York:20200327T100000
DTEND;TZID=America/New_York:20200327T120000
DTSTAMP:20260422T211512
CREATED:20191209T175925Z
LAST-MODIFIED:20191209T181000Z
UID:10000673-1585303200-1585310400@www.beginningsinc.org
SUMMARY:PACT Playgroup
DESCRIPTION:The 2020 Winter PACT Playgroup will begin in January and run through April. Winter sessions will be held on Monday’s\, Tuesday’s\, Thursday’s\, and Friday’s from 10am-12pm at the Beginnings\, Inc. playroom. The theme for the winter sessions is transportation. Beep beep! Vroom! \n 
URL:https://www.beginningsinc.org/event/pact-playgroup-2/2020-03-27/
LOCATION:Beginnings\, Inc.\, 111 Market Street\, Johnstown\, PA\, 15901\, United States
END:VEVENT
BEGIN:VEVENT
DTSTART;TZID=America/New_York:20200326T100000
DTEND;TZID=America/New_York:20200326T120000
DTSTAMP:20260422T211512
CREATED:20191209T175925Z
LAST-MODIFIED:20191209T181000Z
UID:10000672-1585216800-1585224000@www.beginningsinc.org
SUMMARY:PACT Playgroup
DESCRIPTION:The 2020 Winter PACT Playgroup will begin in January and run through April. Winter sessions will be held on Monday’s\, Tuesday’s\, Thursday’s\, and Friday’s from 10am-12pm at the Beginnings\, Inc. playroom. The theme for the winter sessions is transportation. Beep beep! Vroom! \n 
URL:https://www.beginningsinc.org/event/pact-playgroup-2/2020-03-26/
LOCATION:Beginnings\, Inc.\, 111 Market Street\, Johnstown\, PA\, 15901\, United States
END:VEVENT
BEGIN:VEVENT
DTSTART;TZID=America/New_York:20200324T100000
DTEND;TZID=America/New_York:20200324T120000
DTSTAMP:20260422T211512
CREATED:20191209T175925Z
LAST-MODIFIED:20191209T181000Z
UID:10000671-1585044000-1585051200@www.beginningsinc.org
SUMMARY:PACT Playgroup
DESCRIPTION:The 2020 Winter PACT Playgroup will begin in January and run through April. Winter sessions will be held on Monday’s\, Tuesday’s\, Thursday’s\, and Friday’s from 10am-12pm at the Beginnings\, Inc. playroom. The theme for the winter sessions is transportation. Beep beep! Vroom! \n 
URL:https://www.beginningsinc.org/event/pact-playgroup-2/2020-03-24/
LOCATION:Beginnings\, Inc.\, 111 Market Street\, Johnstown\, PA\, 15901\, United States
END:VEVENT
BEGIN:VEVENT
DTSTART;TZID=America/New_York:20200323T100000
DTEND;TZID=America/New_York:20200323T120000
DTSTAMP:20260422T211512
CREATED:20191209T175925Z
LAST-MODIFIED:20191209T181000Z
UID:10000670-1584957600-1584964800@www.beginningsinc.org
SUMMARY:PACT Playgroup
DESCRIPTION:The 2020 Winter PACT Playgroup will begin in January and run through April. Winter sessions will be held on Monday’s\, Tuesday’s\, Thursday’s\, and Friday’s from 10am-12pm at the Beginnings\, Inc. playroom. The theme for the winter sessions is transportation. Beep beep! Vroom! \n 
URL:https://www.beginningsinc.org/event/pact-playgroup-2/2020-03-23/
LOCATION:Beginnings\, Inc.\, 111 Market Street\, Johnstown\, PA\, 15901\, United States
END:VEVENT
BEGIN:VEVENT
DTSTART;TZID=America/New_York:20200320T100000
DTEND;TZID=America/New_York:20200320T120000
DTSTAMP:20260422T211512
CREATED:20191209T175925Z
LAST-MODIFIED:20191209T181000Z
UID:10000669-1584698400-1584705600@www.beginningsinc.org
SUMMARY:PACT Playgroup
DESCRIPTION:The 2020 Winter PACT Playgroup will begin in January and run through April. Winter sessions will be held on Monday’s\, Tuesday’s\, Thursday’s\, and Friday’s from 10am-12pm at the Beginnings\, Inc. playroom. The theme for the winter sessions is transportation. Beep beep! Vroom! \n 
URL:https://www.beginningsinc.org/event/pact-playgroup-2/2020-03-20/
LOCATION:Beginnings\, Inc.\, 111 Market Street\, Johnstown\, PA\, 15901\, United States
END:VEVENT
BEGIN:VEVENT
DTSTART;TZID=America/New_York:20200319T100000
DTEND;TZID=America/New_York:20200319T120000
DTSTAMP:20260422T211512
CREATED:20191209T175925Z
LAST-MODIFIED:20191209T181000Z
UID:10000668-1584612000-1584619200@www.beginningsinc.org
SUMMARY:PACT Playgroup
DESCRIPTION:The 2020 Winter PACT Playgroup will begin in January and run through April. Winter sessions will be held on Monday’s\, Tuesday’s\, Thursday’s\, and Friday’s from 10am-12pm at the Beginnings\, Inc. playroom. The theme for the winter sessions is transportation. Beep beep! Vroom! \n 
URL:https://www.beginningsinc.org/event/pact-playgroup-2/2020-03-19/
LOCATION:Beginnings\, Inc.\, 111 Market Street\, Johnstown\, PA\, 15901\, United States
END:VEVENT
BEGIN:VEVENT
DTSTART;TZID=America/New_York:20200317T100000
DTEND;TZID=America/New_York:20200317T120000
DTSTAMP:20260422T211512
CREATED:20191209T175925Z
LAST-MODIFIED:20191209T181000Z
UID:10000667-1584439200-1584446400@www.beginningsinc.org
SUMMARY:PACT Playgroup
DESCRIPTION:The 2020 Winter PACT Playgroup will begin in January and run through April. Winter sessions will be held on Monday’s\, Tuesday’s\, Thursday’s\, and Friday’s from 10am-12pm at the Beginnings\, Inc. playroom. The theme for the winter sessions is transportation. Beep beep! Vroom! \n 
URL:https://www.beginningsinc.org/event/pact-playgroup-2/2020-03-17/
LOCATION:Beginnings\, Inc.\, 111 Market Street\, Johnstown\, PA\, 15901\, United States
END:VEVENT
BEGIN:VEVENT
DTSTART;TZID=America/New_York:20200316T100000
DTEND;TZID=America/New_York:20200316T120000
DTSTAMP:20260422T211512
CREATED:20191209T175925Z
LAST-MODIFIED:20191209T181000Z
UID:10000666-1584352800-1584360000@www.beginningsinc.org
SUMMARY:PACT Playgroup
DESCRIPTION:The 2020 Winter PACT Playgroup will begin in January and run through April. Winter sessions will be held on Monday’s\, Tuesday’s\, Thursday’s\, and Friday’s from 10am-12pm at the Beginnings\, Inc. playroom. The theme for the winter sessions is transportation. Beep beep! Vroom! \n 
URL:https://www.beginningsinc.org/event/pact-playgroup-2/2020-03-16/
LOCATION:Beginnings\, Inc.\, 111 Market Street\, Johnstown\, PA\, 15901\, United States
END:VEVENT
BEGIN:VEVENT
DTSTART;TZID=America/New_York:20200313T100000
DTEND;TZID=America/New_York:20200313T120000
DTSTAMP:20260422T211512
CREATED:20191209T175925Z
LAST-MODIFIED:20191209T181000Z
UID:10000665-1584093600-1584100800@www.beginningsinc.org
SUMMARY:PACT Playgroup
DESCRIPTION:The 2020 Winter PACT Playgroup will begin in January and run through April. Winter sessions will be held on Monday’s\, Tuesday’s\, Thursday’s\, and Friday’s from 10am-12pm at the Beginnings\, Inc. playroom. The theme for the winter sessions is transportation. Beep beep! Vroom! \n 
URL:https://www.beginningsinc.org/event/pact-playgroup-2/2020-03-13/
LOCATION:Beginnings\, Inc.\, 111 Market Street\, Johnstown\, PA\, 15901\, United States
END:VEVENT
BEGIN:VEVENT
DTSTART;TZID=America/New_York:20200312T100000
DTEND;TZID=America/New_York:20200312T120000
DTSTAMP:20260422T211512
CREATED:20191209T175925Z
LAST-MODIFIED:20191209T181000Z
UID:10000664-1584007200-1584014400@www.beginningsinc.org
SUMMARY:PACT Playgroup
DESCRIPTION:The 2020 Winter PACT Playgroup will begin in January and run through April. Winter sessions will be held on Monday’s\, Tuesday’s\, Thursday’s\, and Friday’s from 10am-12pm at the Beginnings\, Inc. playroom. The theme for the winter sessions is transportation. Beep beep! Vroom! \n 
URL:https://www.beginningsinc.org/event/pact-playgroup-2/2020-03-12/
LOCATION:Beginnings\, Inc.\, 111 Market Street\, Johnstown\, PA\, 15901\, United States
END:VEVENT
BEGIN:VEVENT
DTSTART;TZID=America/New_York:20200310T100000
DTEND;TZID=America/New_York:20200310T120000
DTSTAMP:20260422T211512
CREATED:20191209T175925Z
LAST-MODIFIED:20191209T181000Z
UID:10000663-1583834400-1583841600@www.beginningsinc.org
SUMMARY:PACT Playgroup
DESCRIPTION:The 2020 Winter PACT Playgroup will begin in January and run through April. Winter sessions will be held on Monday’s\, Tuesday’s\, Thursday’s\, and Friday’s from 10am-12pm at the Beginnings\, Inc. playroom. The theme for the winter sessions is transportation. Beep beep! Vroom! \n 
URL:https://www.beginningsinc.org/event/pact-playgroup-2/2020-03-10/
LOCATION:Beginnings\, Inc.\, 111 Market Street\, Johnstown\, PA\, 15901\, United States
END:VEVENT
BEGIN:VEVENT
DTSTART;TZID=America/New_York:20200309T100000
DTEND;TZID=America/New_York:20200309T120000
DTSTAMP:20260422T211512
CREATED:20191209T175925Z
LAST-MODIFIED:20191209T181000Z
UID:10000662-1583748000-1583755200@www.beginningsinc.org
SUMMARY:PACT Playgroup
DESCRIPTION:The 2020 Winter PACT Playgroup will begin in January and run through April. Winter sessions will be held on Monday’s\, Tuesday’s\, Thursday’s\, and Friday’s from 10am-12pm at the Beginnings\, Inc. playroom. The theme for the winter sessions is transportation. Beep beep! Vroom! \n 
URL:https://www.beginningsinc.org/event/pact-playgroup-2/2020-03-09/
LOCATION:Beginnings\, Inc.\, 111 Market Street\, Johnstown\, PA\, 15901\, United States
END:VEVENT
BEGIN:VEVENT
DTSTART;TZID=America/New_York:20200308T120000
DTEND;TZID=America/New_York:20200308T163000
DTSTAMP:20260422T211512
CREATED:20190920T184554Z
LAST-MODIFIED:20191018T145024Z
UID:10000694-1583668800-1583685000@www.beginningsinc.org
SUMMARY:CASA Basket Party
DESCRIPTION:Join Cambria/Somerset Court Appointed Special Advocates (CASA) for our annual basket party! \nWe will be hosting our annual Basket Party at Richland Fire Hall on Sunday March 8th\, 2020. Admission is $12 which includes lunch and 25 tickets\, but you’ll have the option to purchase another 25 tickets for $5. \nProceeds from this event benefit our CASA program\, which allows us to advocate for children involved in the judicial and foster system through no fault of their own. Help us change a child’s story! \nWe are currently accepting baskets and other donations for the event. If you have any questions or would like to donate a basket\, feel free to contact our Program Director Liz McGregor at lmcgregor@beginningsinc.org or 814-539-1919. \nTickets will be available for purchase after January 1st\, 2020.
URL:https://www.beginningsinc.org/event/casa-basket-party-3/
LOCATION:Richland Fire Hall\, 1321 Scalp Avenue\, Johnstown\, 15904\, United States
END:VEVENT
BEGIN:VEVENT
DTSTART;TZID=America/New_York:20200306T100000
DTEND;TZID=America/New_York:20200306T120000
DTSTAMP:20260422T211512
CREATED:20191209T175925Z
LAST-MODIFIED:20191209T181000Z
UID:10000661-1583488800-1583496000@www.beginningsinc.org
SUMMARY:PACT Playgroup
DESCRIPTION:The 2020 Winter PACT Playgroup will begin in January and run through April. Winter sessions will be held on Monday’s\, Tuesday’s\, Thursday’s\, and Friday’s from 10am-12pm at the Beginnings\, Inc. playroom. The theme for the winter sessions is transportation. Beep beep! Vroom! \n 
URL:https://www.beginningsinc.org/event/pact-playgroup-2/2020-03-06/
LOCATION:Beginnings\, Inc.\, 111 Market Street\, Johnstown\, PA\, 15901\, United States
END:VEVENT
BEGIN:VEVENT
DTSTART;TZID=America/New_York:20200305T100000
DTEND;TZID=America/New_York:20200305T120000
DTSTAMP:20260422T211512
CREATED:20191209T175925Z
LAST-MODIFIED:20191209T181000Z
UID:10000660-1583402400-1583409600@www.beginningsinc.org
SUMMARY:PACT Playgroup
DESCRIPTION:The 2020 Winter PACT Playgroup will begin in January and run through April. Winter sessions will be held on Monday’s\, Tuesday’s\, Thursday’s\, and Friday’s from 10am-12pm at the Beginnings\, Inc. playroom. The theme for the winter sessions is transportation. Beep beep! Vroom! \n 
URL:https://www.beginningsinc.org/event/pact-playgroup-2/2020-03-05/
LOCATION:Beginnings\, Inc.\, 111 Market Street\, Johnstown\, PA\, 15901\, United States
END:VEVENT
BEGIN:VEVENT
DTSTART;TZID=America/New_York:20200303T100000
DTEND;TZID=America/New_York:20200303T120000
DTSTAMP:20260422T211512
CREATED:20191209T175925Z
LAST-MODIFIED:20191209T181000Z
UID:10000659-1583229600-1583236800@www.beginningsinc.org
SUMMARY:PACT Playgroup
DESCRIPTION:The 2020 Winter PACT Playgroup will begin in January and run through April. Winter sessions will be held on Monday’s\, Tuesday’s\, Thursday’s\, and Friday’s from 10am-12pm at the Beginnings\, Inc. playroom. The theme for the winter sessions is transportation. Beep beep! Vroom! \n 
URL:https://www.beginningsinc.org/event/pact-playgroup-2/2020-03-03/
LOCATION:Beginnings\, Inc.\, 111 Market Street\, Johnstown\, PA\, 15901\, United States
END:VEVENT
BEGIN:VEVENT
DTSTART;TZID=America/New_York:20200302T100000
DTEND;TZID=America/New_York:20200302T120000
DTSTAMP:20260422T211512
CREATED:20191209T175925Z
LAST-MODIFIED:20191209T181000Z
UID:10000658-1583143200-1583150400@www.beginningsinc.org
SUMMARY:PACT Playgroup
DESCRIPTION:The 2020 Winter PACT Playgroup will begin in January and run through April. Winter sessions will be held on Monday’s\, Tuesday’s\, Thursday’s\, and Friday’s from 10am-12pm at the Beginnings\, Inc. playroom. The theme for the winter sessions is transportation. Beep beep! Vroom! \n 
URL:https://www.beginningsinc.org/event/pact-playgroup-2/2020-03-02/
LOCATION:Beginnings\, Inc.\, 111 Market Street\, Johnstown\, PA\, 15901\, United States
END:VEVENT
BEGIN:VEVENT
DTSTART;TZID=America/New_York:20200228T100000
DTEND;TZID=America/New_York:20200228T120000
DTSTAMP:20260422T211512
CREATED:20191209T175925Z
LAST-MODIFIED:20191209T181000Z
UID:10000657-1582884000-1582891200@www.beginningsinc.org
SUMMARY:PACT Playgroup
DESCRIPTION:The 2020 Winter PACT Playgroup will begin in January and run through April. Winter sessions will be held on Monday’s\, Tuesday’s\, Thursday’s\, and Friday’s from 10am-12pm at the Beginnings\, Inc. playroom. The theme for the winter sessions is transportation. Beep beep! Vroom! \n 
URL:https://www.beginningsinc.org/event/pact-playgroup-2/2020-02-28/
LOCATION:Beginnings\, Inc.\, 111 Market Street\, Johnstown\, PA\, 15901\, United States
END:VEVENT
BEGIN:VEVENT
DTSTART;TZID=America/New_York:20200227T100000
DTEND;TZID=America/New_York:20200227T120000
DTSTAMP:20260422T211512
CREATED:20191209T175925Z
LAST-MODIFIED:20191209T181000Z
UID:10000656-1582797600-1582804800@www.beginningsinc.org
SUMMARY:PACT Playgroup
DESCRIPTION:The 2020 Winter PACT Playgroup will begin in January and run through April. Winter sessions will be held on Monday’s\, Tuesday’s\, Thursday’s\, and Friday’s from 10am-12pm at the Beginnings\, Inc. playroom. The theme for the winter sessions is transportation. Beep beep! Vroom! \n 
URL:https://www.beginningsinc.org/event/pact-playgroup-2/2020-02-27/
LOCATION:Beginnings\, Inc.\, 111 Market Street\, Johnstown\, PA\, 15901\, United States
END:VEVENT
BEGIN:VEVENT
DTSTART;TZID=America/New_York:20200225T100000
DTEND;TZID=America/New_York:20200225T120000
DTSTAMP:20260422T211512
CREATED:20191209T175925Z
LAST-MODIFIED:20191209T181000Z
UID:10000655-1582624800-1582632000@www.beginningsinc.org
SUMMARY:PACT Playgroup
DESCRIPTION:The 2020 Winter PACT Playgroup will begin in January and run through April. Winter sessions will be held on Monday’s\, Tuesday’s\, Thursday’s\, and Friday’s from 10am-12pm at the Beginnings\, Inc. playroom. The theme for the winter sessions is transportation. Beep beep! Vroom! \n 
URL:https://www.beginningsinc.org/event/pact-playgroup-2/2020-02-25/
LOCATION:Beginnings\, Inc.\, 111 Market Street\, Johnstown\, PA\, 15901\, United States
END:VEVENT
BEGIN:VEVENT
DTSTART;TZID=America/New_York:20200224T100000
DTEND;TZID=America/New_York:20200224T120000
DTSTAMP:20260422T211512
CREATED:20191209T175925Z
LAST-MODIFIED:20191209T181000Z
UID:10000654-1582538400-1582545600@www.beginningsinc.org
SUMMARY:PACT Playgroup
DESCRIPTION:The 2020 Winter PACT Playgroup will begin in January and run through April. Winter sessions will be held on Monday’s\, Tuesday’s\, Thursday’s\, and Friday’s from 10am-12pm at the Beginnings\, Inc. playroom. The theme for the winter sessions is transportation. Beep beep! Vroom! \n 
URL:https://www.beginningsinc.org/event/pact-playgroup-2/2020-02-24/
LOCATION:Beginnings\, Inc.\, 111 Market Street\, Johnstown\, PA\, 15901\, United States
END:VEVENT
BEGIN:VEVENT
DTSTART;TZID=America/New_York:20200221T100000
DTEND;TZID=America/New_York:20200221T120000
DTSTAMP:20260422T211512
CREATED:20191209T175925Z
LAST-MODIFIED:20191209T181000Z
UID:10000653-1582279200-1582286400@www.beginningsinc.org
SUMMARY:PACT Playgroup
DESCRIPTION:The 2020 Winter PACT Playgroup will begin in January and run through April. Winter sessions will be held on Monday’s\, Tuesday’s\, Thursday’s\, and Friday’s from 10am-12pm at the Beginnings\, Inc. playroom. The theme for the winter sessions is transportation. Beep beep! Vroom! \n 
URL:https://www.beginningsinc.org/event/pact-playgroup-2/2020-02-21/
LOCATION:Beginnings\, Inc.\, 111 Market Street\, Johnstown\, PA\, 15901\, United States
END:VEVENT
BEGIN:VEVENT
DTSTART;TZID=America/New_York:20200220T100000
DTEND;TZID=America/New_York:20200220T120000
DTSTAMP:20260422T211512
CREATED:20191209T175925Z
LAST-MODIFIED:20191209T181000Z
UID:10000652-1582192800-1582200000@www.beginningsinc.org
SUMMARY:PACT Playgroup
DESCRIPTION:The 2020 Winter PACT Playgroup will begin in January and run through April. Winter sessions will be held on Monday’s\, Tuesday’s\, Thursday’s\, and Friday’s from 10am-12pm at the Beginnings\, Inc. playroom. The theme for the winter sessions is transportation. Beep beep! Vroom! \n 
URL:https://www.beginningsinc.org/event/pact-playgroup-2/2020-02-20/
LOCATION:Beginnings\, Inc.\, 111 Market Street\, Johnstown\, PA\, 15901\, United States
END:VEVENT
END:VCALENDAR