BEGIN:VCALENDAR
VERSION:2.0
PRODID:-//Beginnings Inc - ECPv6.15.18//NONSGML v1.0//EN
CALSCALE:GREGORIAN
METHOD:PUBLISH
X-WR-CALNAME:Beginnings Inc
X-ORIGINAL-URL:https://www.beginningsinc.org
X-WR-CALDESC:Events for Beginnings Inc
REFRESH-INTERVAL;VALUE=DURATION:PT1H
X-Robots-Tag:noindex
X-PUBLISHED-TTL:PT1H
BEGIN:VTIMEZONE
TZID:America/New_York
BEGIN:DAYLIGHT
TZOFFSETFROM:-0500
TZOFFSETTO:-0400
TZNAME:EDT
DTSTART:20190310T070000
END:DAYLIGHT
BEGIN:STANDARD
TZOFFSETFROM:-0400
TZOFFSETTO:-0500
TZNAME:EST
DTSTART:20191103T060000
END:STANDARD
BEGIN:DAYLIGHT
TZOFFSETFROM:-0500
TZOFFSETTO:-0400
TZNAME:EDT
DTSTART:20200308T070000
END:DAYLIGHT
BEGIN:STANDARD
TZOFFSETFROM:-0400
TZOFFSETTO:-0500
TZNAME:EST
DTSTART:20201101T060000
END:STANDARD
BEGIN:DAYLIGHT
TZOFFSETFROM:-0500
TZOFFSETTO:-0400
TZNAME:EDT
DTSTART:20210314T070000
END:DAYLIGHT
BEGIN:STANDARD
TZOFFSETFROM:-0400
TZOFFSETTO:-0500
TZNAME:EST
DTSTART:20211107T060000
END:STANDARD
END:VTIMEZONE
BEGIN:VEVENT
DTSTART;TZID=America/New_York:20200228T100000
DTEND;TZID=America/New_York:20200228T120000
DTSTAMP:20260422T183111
CREATED:20191209T175925Z
LAST-MODIFIED:20191209T181000Z
UID:10000657-1582884000-1582891200@www.beginningsinc.org
SUMMARY:PACT Playgroup
DESCRIPTION:The 2020 Winter PACT Playgroup will begin in January and run through April. Winter sessions will be held on Monday’s\, Tuesday’s\, Thursday’s\, and Friday’s from 10am-12pm at the Beginnings\, Inc. playroom. The theme for the winter sessions is transportation. Beep beep! Vroom! \n 
URL:https://www.beginningsinc.org/event/pact-playgroup-2/2020-02-28/
LOCATION:Beginnings\, Inc.\, 111 Market Street\, Johnstown\, PA\, 15901\, United States
END:VEVENT
BEGIN:VEVENT
DTSTART;TZID=America/New_York:20200227T100000
DTEND;TZID=America/New_York:20200227T120000
DTSTAMP:20260422T183111
CREATED:20191209T175925Z
LAST-MODIFIED:20191209T181000Z
UID:10000656-1582797600-1582804800@www.beginningsinc.org
SUMMARY:PACT Playgroup
DESCRIPTION:The 2020 Winter PACT Playgroup will begin in January and run through April. Winter sessions will be held on Monday’s\, Tuesday’s\, Thursday’s\, and Friday’s from 10am-12pm at the Beginnings\, Inc. playroom. The theme for the winter sessions is transportation. Beep beep! Vroom! \n 
URL:https://www.beginningsinc.org/event/pact-playgroup-2/2020-02-27/
LOCATION:Beginnings\, Inc.\, 111 Market Street\, Johnstown\, PA\, 15901\, United States
END:VEVENT
BEGIN:VEVENT
DTSTART;TZID=America/New_York:20200225T100000
DTEND;TZID=America/New_York:20200225T120000
DTSTAMP:20260422T183111
CREATED:20191209T175925Z
LAST-MODIFIED:20191209T181000Z
UID:10000655-1582624800-1582632000@www.beginningsinc.org
SUMMARY:PACT Playgroup
DESCRIPTION:The 2020 Winter PACT Playgroup will begin in January and run through April. Winter sessions will be held on Monday’s\, Tuesday’s\, Thursday’s\, and Friday’s from 10am-12pm at the Beginnings\, Inc. playroom. The theme for the winter sessions is transportation. Beep beep! Vroom! \n 
URL:https://www.beginningsinc.org/event/pact-playgroup-2/2020-02-25/
LOCATION:Beginnings\, Inc.\, 111 Market Street\, Johnstown\, PA\, 15901\, United States
END:VEVENT
BEGIN:VEVENT
DTSTART;TZID=America/New_York:20200224T100000
DTEND;TZID=America/New_York:20200224T120000
DTSTAMP:20260422T183111
CREATED:20191209T175925Z
LAST-MODIFIED:20191209T181000Z
UID:10000654-1582538400-1582545600@www.beginningsinc.org
SUMMARY:PACT Playgroup
DESCRIPTION:The 2020 Winter PACT Playgroup will begin in January and run through April. Winter sessions will be held on Monday’s\, Tuesday’s\, Thursday’s\, and Friday’s from 10am-12pm at the Beginnings\, Inc. playroom. The theme for the winter sessions is transportation. Beep beep! Vroom! \n 
URL:https://www.beginningsinc.org/event/pact-playgroup-2/2020-02-24/
LOCATION:Beginnings\, Inc.\, 111 Market Street\, Johnstown\, PA\, 15901\, United States
END:VEVENT
BEGIN:VEVENT
DTSTART;TZID=America/New_York:20200221T100000
DTEND;TZID=America/New_York:20200221T120000
DTSTAMP:20260422T183111
CREATED:20191209T175925Z
LAST-MODIFIED:20191209T181000Z
UID:10000653-1582279200-1582286400@www.beginningsinc.org
SUMMARY:PACT Playgroup
DESCRIPTION:The 2020 Winter PACT Playgroup will begin in January and run through April. Winter sessions will be held on Monday’s\, Tuesday’s\, Thursday’s\, and Friday’s from 10am-12pm at the Beginnings\, Inc. playroom. The theme for the winter sessions is transportation. Beep beep! Vroom! \n 
URL:https://www.beginningsinc.org/event/pact-playgroup-2/2020-02-21/
LOCATION:Beginnings\, Inc.\, 111 Market Street\, Johnstown\, PA\, 15901\, United States
END:VEVENT
BEGIN:VEVENT
DTSTART;TZID=America/New_York:20200220T100000
DTEND;TZID=America/New_York:20200220T120000
DTSTAMP:20260422T183111
CREATED:20191209T175925Z
LAST-MODIFIED:20191209T181000Z
UID:10000652-1582192800-1582200000@www.beginningsinc.org
SUMMARY:PACT Playgroup
DESCRIPTION:The 2020 Winter PACT Playgroup will begin in January and run through April. Winter sessions will be held on Monday’s\, Tuesday’s\, Thursday’s\, and Friday’s from 10am-12pm at the Beginnings\, Inc. playroom. The theme for the winter sessions is transportation. Beep beep! Vroom! \n 
URL:https://www.beginningsinc.org/event/pact-playgroup-2/2020-02-20/
LOCATION:Beginnings\, Inc.\, 111 Market Street\, Johnstown\, PA\, 15901\, United States
END:VEVENT
BEGIN:VEVENT
DTSTART;TZID=America/New_York:20200218T100000
DTEND;TZID=America/New_York:20200218T120000
DTSTAMP:20260422T183111
CREATED:20191209T175925Z
LAST-MODIFIED:20191209T181000Z
UID:10000651-1582020000-1582027200@www.beginningsinc.org
SUMMARY:PACT Playgroup
DESCRIPTION:The 2020 Winter PACT Playgroup will begin in January and run through April. Winter sessions will be held on Monday’s\, Tuesday’s\, Thursday’s\, and Friday’s from 10am-12pm at the Beginnings\, Inc. playroom. The theme for the winter sessions is transportation. Beep beep! Vroom! \n 
URL:https://www.beginningsinc.org/event/pact-playgroup-2/2020-02-18/
LOCATION:Beginnings\, Inc.\, 111 Market Street\, Johnstown\, PA\, 15901\, United States
END:VEVENT
BEGIN:VEVENT
DTSTART;TZID=America/New_York:20200217T100000
DTEND;TZID=America/New_York:20200217T120000
DTSTAMP:20260422T183111
CREATED:20191209T175925Z
LAST-MODIFIED:20191210T173641Z
UID:10000630-1581933600-1581940800@www.beginningsinc.org
SUMMARY:NO PACT Playgroup
DESCRIPTION:There will be NO PACT Playgroup on Monday\, February 17th\, 2020.
URL:https://www.beginningsinc.org/event/pact-playgroup-2-2020-02-17/
LOCATION:Beginnings\, Inc.\, 111 Market Street\, Johnstown\, PA\, 15901\, United States
END:VEVENT
BEGIN:VEVENT
DTSTART;TZID=America/New_York:20200214T100000
DTEND;TZID=America/New_York:20200214T120000
DTSTAMP:20260422T183111
CREATED:20191209T175925Z
LAST-MODIFIED:20191209T181000Z
UID:10000650-1581674400-1581681600@www.beginningsinc.org
SUMMARY:PACT Playgroup
DESCRIPTION:The 2020 Winter PACT Playgroup will begin in January and run through April. Winter sessions will be held on Monday’s\, Tuesday’s\, Thursday’s\, and Friday’s from 10am-12pm at the Beginnings\, Inc. playroom. The theme for the winter sessions is transportation. Beep beep! Vroom! \n 
URL:https://www.beginningsinc.org/event/pact-playgroup-2/2020-02-14/
LOCATION:Beginnings\, Inc.\, 111 Market Street\, Johnstown\, PA\, 15901\, United States
END:VEVENT
BEGIN:VEVENT
DTSTART;TZID=America/New_York:20200213T100000
DTEND;TZID=America/New_York:20200213T120000
DTSTAMP:20260422T183111
CREATED:20191209T175925Z
LAST-MODIFIED:20191209T181000Z
UID:10000649-1581588000-1581595200@www.beginningsinc.org
SUMMARY:PACT Playgroup
DESCRIPTION:The 2020 Winter PACT Playgroup will begin in January and run through April. Winter sessions will be held on Monday’s\, Tuesday’s\, Thursday’s\, and Friday’s from 10am-12pm at the Beginnings\, Inc. playroom. The theme for the winter sessions is transportation. Beep beep! Vroom! \n 
URL:https://www.beginningsinc.org/event/pact-playgroup-2/2020-02-13/
LOCATION:Beginnings\, Inc.\, 111 Market Street\, Johnstown\, PA\, 15901\, United States
END:VEVENT
BEGIN:VEVENT
DTSTART;TZID=America/New_York:20200211T100000
DTEND;TZID=America/New_York:20200211T120000
DTSTAMP:20260422T183111
CREATED:20191209T175925Z
LAST-MODIFIED:20191209T181000Z
UID:10000648-1581415200-1581422400@www.beginningsinc.org
SUMMARY:PACT Playgroup
DESCRIPTION:The 2020 Winter PACT Playgroup will begin in January and run through April. Winter sessions will be held on Monday’s\, Tuesday’s\, Thursday’s\, and Friday’s from 10am-12pm at the Beginnings\, Inc. playroom. The theme for the winter sessions is transportation. Beep beep! Vroom! \n 
URL:https://www.beginningsinc.org/event/pact-playgroup-2/2020-02-11/
LOCATION:Beginnings\, Inc.\, 111 Market Street\, Johnstown\, PA\, 15901\, United States
END:VEVENT
BEGIN:VEVENT
DTSTART;TZID=America/New_York:20200210T100000
DTEND;TZID=America/New_York:20200210T120000
DTSTAMP:20260422T183111
CREATED:20191209T175925Z
LAST-MODIFIED:20191209T181000Z
UID:10000647-1581328800-1581336000@www.beginningsinc.org
SUMMARY:PACT Playgroup
DESCRIPTION:The 2020 Winter PACT Playgroup will begin in January and run through April. Winter sessions will be held on Monday’s\, Tuesday’s\, Thursday’s\, and Friday’s from 10am-12pm at the Beginnings\, Inc. playroom. The theme for the winter sessions is transportation. Beep beep! Vroom! \n 
URL:https://www.beginningsinc.org/event/pact-playgroup-2/2020-02-10/
LOCATION:Beginnings\, Inc.\, 111 Market Street\, Johnstown\, PA\, 15901\, United States
END:VEVENT
BEGIN:VEVENT
DTSTART;TZID=America/New_York:20200207T100000
DTEND;TZID=America/New_York:20200207T120000
DTSTAMP:20260422T183111
CREATED:20191209T175925Z
LAST-MODIFIED:20191209T181000Z
UID:10000646-1581069600-1581076800@www.beginningsinc.org
SUMMARY:PACT Playgroup
DESCRIPTION:The 2020 Winter PACT Playgroup will begin in January and run through April. Winter sessions will be held on Monday’s\, Tuesday’s\, Thursday’s\, and Friday’s from 10am-12pm at the Beginnings\, Inc. playroom. The theme for the winter sessions is transportation. Beep beep! Vroom! \n 
URL:https://www.beginningsinc.org/event/pact-playgroup-2/2020-02-07/
LOCATION:Beginnings\, Inc.\, 111 Market Street\, Johnstown\, PA\, 15901\, United States
END:VEVENT
BEGIN:VEVENT
DTSTART;TZID=America/New_York:20200206T100000
DTEND;TZID=America/New_York:20200206T120000
DTSTAMP:20260422T183111
CREATED:20191209T175925Z
LAST-MODIFIED:20191209T181000Z
UID:10000645-1580983200-1580990400@www.beginningsinc.org
SUMMARY:PACT Playgroup
DESCRIPTION:The 2020 Winter PACT Playgroup will begin in January and run through April. Winter sessions will be held on Monday’s\, Tuesday’s\, Thursday’s\, and Friday’s from 10am-12pm at the Beginnings\, Inc. playroom. The theme for the winter sessions is transportation. Beep beep! Vroom! \n 
URL:https://www.beginningsinc.org/event/pact-playgroup-2/2020-02-06/
LOCATION:Beginnings\, Inc.\, 111 Market Street\, Johnstown\, PA\, 15901\, United States
END:VEVENT
BEGIN:VEVENT
DTSTART;TZID=America/New_York:20200204T100000
DTEND;TZID=America/New_York:20200204T120000
DTSTAMP:20260422T183111
CREATED:20191209T175925Z
LAST-MODIFIED:20191209T181000Z
UID:10000644-1580810400-1580817600@www.beginningsinc.org
SUMMARY:PACT Playgroup
DESCRIPTION:The 2020 Winter PACT Playgroup will begin in January and run through April. Winter sessions will be held on Monday’s\, Tuesday’s\, Thursday’s\, and Friday’s from 10am-12pm at the Beginnings\, Inc. playroom. The theme for the winter sessions is transportation. Beep beep! Vroom! \n 
URL:https://www.beginningsinc.org/event/pact-playgroup-2/2020-02-04/
LOCATION:Beginnings\, Inc.\, 111 Market Street\, Johnstown\, PA\, 15901\, United States
END:VEVENT
BEGIN:VEVENT
DTSTART;TZID=America/New_York:20200203T100000
DTEND;TZID=America/New_York:20200203T120000
DTSTAMP:20260422T183111
CREATED:20191209T175925Z
LAST-MODIFIED:20191209T181000Z
UID:10000643-1580724000-1580731200@www.beginningsinc.org
SUMMARY:PACT Playgroup
DESCRIPTION:The 2020 Winter PACT Playgroup will begin in January and run through April. Winter sessions will be held on Monday’s\, Tuesday’s\, Thursday’s\, and Friday’s from 10am-12pm at the Beginnings\, Inc. playroom. The theme for the winter sessions is transportation. Beep beep! Vroom! \n 
URL:https://www.beginningsinc.org/event/pact-playgroup-2/2020-02-03/
LOCATION:Beginnings\, Inc.\, 111 Market Street\, Johnstown\, PA\, 15901\, United States
END:VEVENT
BEGIN:VEVENT
DTSTART;TZID=America/New_York:20200201T173000
DTEND;TZID=America/New_York:20200201T230000
DTSTAMP:20260422T183111
CREATED:20200114T152126Z
LAST-MODIFIED:20200114T152645Z
UID:10000794-1580578200-1580598000@www.beginningsinc.org
SUMMARY:Dancing Like A Star
DESCRIPTION:We at Beginnings\, Inc. know that working with the families in our community is an honor and a privilege. We also know that strong families build strong communities. Our programs and supports are always growing\, changing\, and adapting to better  fit these needs. \nWe also know that what we do wouldn’t be possible without our dedicated supporters. \nThe 10th Annual Beginnings\, Inc. Dancing Like a Star Benefit will still be the same great event you have all come to know and enjoy over the last nine years. Please join us in celebrating the youngest among us as we strive to give all children the best start a child can have! \n  \nThe Evening \n5:30 pm            Doors Open & Cash Bar \n6:00 pm               Dinner Buffet \n7:30—9 pm      Competition & Awards \n9:00—11pm     DJ / Dancing \nSILENT AUCTION \n50/50 Tickets \nTake the opportunity throughout the night to vote for your favorite dancers. \nQuestions? Contact Brianna Livingston at 814-539-1919 or blivingston@beginningsinc.org
URL:https://www.beginningsinc.org/event/dancing-like-a-star/
LOCATION:Pasquerilla Conference Center\, 301 Napoleon Street\, Johnstown
END:VEVENT
BEGIN:VEVENT
DTSTART;TZID=America/New_York:20200131T100000
DTEND;TZID=America/New_York:20200131T120000
DTSTAMP:20260422T183111
CREATED:20191209T175925Z
LAST-MODIFIED:20191209T181000Z
UID:10000642-1580464800-1580472000@www.beginningsinc.org
SUMMARY:PACT Playgroup
DESCRIPTION:The 2020 Winter PACT Playgroup will begin in January and run through April. Winter sessions will be held on Monday’s\, Tuesday’s\, Thursday’s\, and Friday’s from 10am-12pm at the Beginnings\, Inc. playroom. The theme for the winter sessions is transportation. Beep beep! Vroom! \n 
URL:https://www.beginningsinc.org/event/pact-playgroup-2/2020-01-31/
LOCATION:Beginnings\, Inc.\, 111 Market Street\, Johnstown\, PA\, 15901\, United States
END:VEVENT
BEGIN:VEVENT
DTSTART;TZID=America/New_York:20200130T100000
DTEND;TZID=America/New_York:20200130T120000
DTSTAMP:20260422T183111
CREATED:20191209T175925Z
LAST-MODIFIED:20191209T181000Z
UID:10000641-1580378400-1580385600@www.beginningsinc.org
SUMMARY:PACT Playgroup
DESCRIPTION:The 2020 Winter PACT Playgroup will begin in January and run through April. Winter sessions will be held on Monday’s\, Tuesday’s\, Thursday’s\, and Friday’s from 10am-12pm at the Beginnings\, Inc. playroom. The theme for the winter sessions is transportation. Beep beep! Vroom! \n 
URL:https://www.beginningsinc.org/event/pact-playgroup-2/2020-01-30/
LOCATION:Beginnings\, Inc.\, 111 Market Street\, Johnstown\, PA\, 15901\, United States
END:VEVENT
BEGIN:VEVENT
DTSTART;TZID=America/New_York:20200128T100000
DTEND;TZID=America/New_York:20200128T120000
DTSTAMP:20260422T183111
CREATED:20191209T175925Z
LAST-MODIFIED:20191209T181000Z
UID:10000640-1580205600-1580212800@www.beginningsinc.org
SUMMARY:PACT Playgroup
DESCRIPTION:The 2020 Winter PACT Playgroup will begin in January and run through April. Winter sessions will be held on Monday’s\, Tuesday’s\, Thursday’s\, and Friday’s from 10am-12pm at the Beginnings\, Inc. playroom. The theme for the winter sessions is transportation. Beep beep! Vroom! \n 
URL:https://www.beginningsinc.org/event/pact-playgroup-2/2020-01-28/
LOCATION:Beginnings\, Inc.\, 111 Market Street\, Johnstown\, PA\, 15901\, United States
END:VEVENT
BEGIN:VEVENT
DTSTART;TZID=America/New_York:20200127T100000
DTEND;TZID=America/New_York:20200127T120000
DTSTAMP:20260422T183111
CREATED:20191209T175925Z
LAST-MODIFIED:20191209T181000Z
UID:10000639-1580119200-1580126400@www.beginningsinc.org
SUMMARY:PACT Playgroup
DESCRIPTION:The 2020 Winter PACT Playgroup will begin in January and run through April. Winter sessions will be held on Monday’s\, Tuesday’s\, Thursday’s\, and Friday’s from 10am-12pm at the Beginnings\, Inc. playroom. The theme for the winter sessions is transportation. Beep beep! Vroom! \n 
URL:https://www.beginningsinc.org/event/pact-playgroup-2/2020-01-27/
LOCATION:Beginnings\, Inc.\, 111 Market Street\, Johnstown\, PA\, 15901\, United States
END:VEVENT
BEGIN:VEVENT
DTSTART;TZID=America/New_York:20200124T100000
DTEND;TZID=America/New_York:20200124T120000
DTSTAMP:20260422T183111
CREATED:20191209T175925Z
LAST-MODIFIED:20191209T181000Z
UID:10000638-1579860000-1579867200@www.beginningsinc.org
SUMMARY:PACT Playgroup
DESCRIPTION:The 2020 Winter PACT Playgroup will begin in January and run through April. Winter sessions will be held on Monday’s\, Tuesday’s\, Thursday’s\, and Friday’s from 10am-12pm at the Beginnings\, Inc. playroom. The theme for the winter sessions is transportation. Beep beep! Vroom! \n 
URL:https://www.beginningsinc.org/event/pact-playgroup-2/2020-01-24/
LOCATION:Beginnings\, Inc.\, 111 Market Street\, Johnstown\, PA\, 15901\, United States
END:VEVENT
BEGIN:VEVENT
DTSTART;TZID=America/New_York:20200123T100000
DTEND;TZID=America/New_York:20200123T120000
DTSTAMP:20260422T183111
CREATED:20191209T175925Z
LAST-MODIFIED:20191209T181000Z
UID:10000637-1579773600-1579780800@www.beginningsinc.org
SUMMARY:PACT Playgroup
DESCRIPTION:The 2020 Winter PACT Playgroup will begin in January and run through April. Winter sessions will be held on Monday’s\, Tuesday’s\, Thursday’s\, and Friday’s from 10am-12pm at the Beginnings\, Inc. playroom. The theme for the winter sessions is transportation. Beep beep! Vroom! \n 
URL:https://www.beginningsinc.org/event/pact-playgroup-2/2020-01-23/
LOCATION:Beginnings\, Inc.\, 111 Market Street\, Johnstown\, PA\, 15901\, United States
END:VEVENT
BEGIN:VEVENT
DTSTART;TZID=America/New_York:20200121T100000
DTEND;TZID=America/New_York:20200121T120000
DTSTAMP:20260422T183111
CREATED:20191209T175925Z
LAST-MODIFIED:20191209T181000Z
UID:10000636-1579600800-1579608000@www.beginningsinc.org
SUMMARY:PACT Playgroup
DESCRIPTION:The 2020 Winter PACT Playgroup will begin in January and run through April. Winter sessions will be held on Monday’s\, Tuesday’s\, Thursday’s\, and Friday’s from 10am-12pm at the Beginnings\, Inc. playroom. The theme for the winter sessions is transportation. Beep beep! Vroom! \n 
URL:https://www.beginningsinc.org/event/pact-playgroup-2/2020-01-21/
LOCATION:Beginnings\, Inc.\, 111 Market Street\, Johnstown\, PA\, 15901\, United States
END:VEVENT
BEGIN:VEVENT
DTSTART;TZID=America/New_York:20200120T100000
DTEND;TZID=America/New_York:20200120T120000
DTSTAMP:20260422T183111
CREATED:20191209T175925Z
LAST-MODIFIED:20191210T173613Z
UID:10000631-1579514400-1579521600@www.beginningsinc.org
SUMMARY:NO PACT Playgroup
DESCRIPTION:There will be NO PACT Playgroup on Monday\, January 20th\, 2020.
URL:https://www.beginningsinc.org/event/pact-playgroup-2-2020-01-20/
LOCATION:Beginnings\, Inc.\, 111 Market Street\, Johnstown\, PA\, 15901\, United States
END:VEVENT
BEGIN:VEVENT
DTSTART;VALUE=DATE:20200120
DTEND;VALUE=DATE:20200121
DTSTAMP:20260422T183111
CREATED:20191210T172211Z
LAST-MODIFIED:20191210T172242Z
UID:10000628-1579478400-1579564799@www.beginningsinc.org
SUMMARY:Beginnings\, Inc. Office CLOSED
DESCRIPTION:The Beginnings\, Inc. office will be closed on January 20th\, 2020 in observance of Martin Luther King Jr. Day. \n 
URL:https://www.beginningsinc.org/event/beginnings-inc-office-closed-2/
END:VEVENT
BEGIN:VEVENT
DTSTART;TZID=America/New_York:20200117T100000
DTEND;TZID=America/New_York:20200119T160000
DTSTAMP:20260422T183111
CREATED:20181116T180753Z
LAST-MODIFIED:20190930T161139Z
UID:10000696-1579255200-1579449600@www.beginningsinc.org
SUMMARY:14th Annual Used Book Sale
DESCRIPTION:Beginnings’ 14th Annual Used Book Sale will be held at the Johnstown Galleria from January 17 – 19\, 2019. Friday 10-8\, Saturday 9-4\, and Sunday 12-4. Hardcover $1\, Paperback $.50\, and Children’s Books 3 for $1.
URL:https://www.beginningsinc.org/event/14th-annual-used-book-sale/
LOCATION:The Johnstown Galleria\, 500 Galleria Drive\, Johnstown\, PA\, 15904\, United States
END:VEVENT
BEGIN:VEVENT
DTSTART;TZID=America/New_York:20200117T100000
DTEND;TZID=America/New_York:20200117T120000
DTSTAMP:20260422T183111
CREATED:20191209T175925Z
LAST-MODIFIED:20191209T181000Z
UID:10000635-1579255200-1579262400@www.beginningsinc.org
SUMMARY:PACT Playgroup
DESCRIPTION:The 2020 Winter PACT Playgroup will begin in January and run through April. Winter sessions will be held on Monday’s\, Tuesday’s\, Thursday’s\, and Friday’s from 10am-12pm at the Beginnings\, Inc. playroom. The theme for the winter sessions is transportation. Beep beep! Vroom! \n 
URL:https://www.beginningsinc.org/event/pact-playgroup-2/2020-01-17/
LOCATION:Beginnings\, Inc.\, 111 Market Street\, Johnstown\, PA\, 15901\, United States
END:VEVENT
BEGIN:VEVENT
DTSTART;TZID=America/New_York:20200116T100000
DTEND;TZID=America/New_York:20200116T120000
DTSTAMP:20260422T183111
CREATED:20191209T175925Z
LAST-MODIFIED:20191209T181000Z
UID:10000634-1579168800-1579176000@www.beginningsinc.org
SUMMARY:PACT Playgroup
DESCRIPTION:The 2020 Winter PACT Playgroup will begin in January and run through April. Winter sessions will be held on Monday’s\, Tuesday’s\, Thursday’s\, and Friday’s from 10am-12pm at the Beginnings\, Inc. playroom. The theme for the winter sessions is transportation. Beep beep! Vroom! \n 
URL:https://www.beginningsinc.org/event/pact-playgroup-2/2020-01-16/
LOCATION:Beginnings\, Inc.\, 111 Market Street\, Johnstown\, PA\, 15901\, United States
END:VEVENT
BEGIN:VEVENT
DTSTART;TZID=America/New_York:20200114T100000
DTEND;TZID=America/New_York:20200114T120000
DTSTAMP:20260422T183111
CREATED:20191209T175925Z
LAST-MODIFIED:20191209T181000Z
UID:10000633-1578996000-1579003200@www.beginningsinc.org
SUMMARY:PACT Playgroup
DESCRIPTION:The 2020 Winter PACT Playgroup will begin in January and run through April. Winter sessions will be held on Monday’s\, Tuesday’s\, Thursday’s\, and Friday’s from 10am-12pm at the Beginnings\, Inc. playroom. The theme for the winter sessions is transportation. Beep beep! Vroom! \n 
URL:https://www.beginningsinc.org/event/pact-playgroup-2/2020-01-14/
LOCATION:Beginnings\, Inc.\, 111 Market Street\, Johnstown\, PA\, 15901\, United States
END:VEVENT
END:VCALENDAR