BEGIN:VCALENDAR
VERSION:2.0
PRODID:-//Beginnings Inc - ECPv6.15.18//NONSGML v1.0//EN
CALSCALE:GREGORIAN
METHOD:PUBLISH
X-WR-CALNAME:Beginnings Inc
X-ORIGINAL-URL:https://www.beginningsinc.org
X-WR-CALDESC:Events for Beginnings Inc
REFRESH-INTERVAL;VALUE=DURATION:PT1H
X-Robots-Tag:noindex
X-PUBLISHED-TTL:PT1H
BEGIN:VTIMEZONE
TZID:America/New_York
BEGIN:DAYLIGHT
TZOFFSETFROM:-0500
TZOFFSETTO:-0400
TZNAME:EDT
DTSTART:20170312T070000
END:DAYLIGHT
BEGIN:STANDARD
TZOFFSETFROM:-0400
TZOFFSETTO:-0500
TZNAME:EST
DTSTART:20171105T060000
END:STANDARD
BEGIN:DAYLIGHT
TZOFFSETFROM:-0500
TZOFFSETTO:-0400
TZNAME:EDT
DTSTART:20180311T070000
END:DAYLIGHT
BEGIN:STANDARD
TZOFFSETFROM:-0400
TZOFFSETTO:-0500
TZNAME:EST
DTSTART:20181104T060000
END:STANDARD
BEGIN:DAYLIGHT
TZOFFSETFROM:-0500
TZOFFSETTO:-0400
TZNAME:EDT
DTSTART:20190310T070000
END:DAYLIGHT
BEGIN:STANDARD
TZOFFSETFROM:-0400
TZOFFSETTO:-0500
TZNAME:EST
DTSTART:20191103T060000
END:STANDARD
BEGIN:DAYLIGHT
TZOFFSETFROM:-0500
TZOFFSETTO:-0400
TZNAME:EDT
DTSTART:20200308T070000
END:DAYLIGHT
BEGIN:STANDARD
TZOFFSETFROM:-0400
TZOFFSETTO:-0500
TZNAME:EST
DTSTART:20201101T060000
END:STANDARD
END:VTIMEZONE
BEGIN:VEVENT
DTSTART;TZID=America/New_York:20191031T100000
DTEND;TZID=America/New_York:20191031T120000
DTSTAMP:20260423T050729
CREATED:20191030T144036Z
LAST-MODIFIED:20191030T144036Z
UID:10000679-1572516000-1572523200@www.beginningsinc.org
SUMMARY:PACT Playgroup
DESCRIPTION:Our free playgroup is full for this session.  Please see drop-in times below. Also\, look for our winter schedule to be released in late November.
URL:https://www.beginningsinc.org/event/pact-playgroup/2019-10-31/
END:VEVENT
BEGIN:VEVENT
DTSTART;TZID=America/New_York:20190720T100000
DTEND;TZID=America/New_York:20190720T130000
DTSTAMP:20260423T050729
CREATED:20190612T183958Z
LAST-MODIFIED:20190612T183958Z
UID:10000695-1563616800-1563627600@www.beginningsinc.org
SUMMARY:Roll and Read
DESCRIPTION:Attention Toddlers & Preschoolers (and their caregivers) \nPack the kids in the wagon or stroller and roll on over for a FREE event \nWalk a 1-mile course with your little ones \nTake breaks throughout the course to listen\, read\, and have fun together! \n  \n 
URL:https://www.beginningsinc.org/event/roll-and-read/
END:VEVENT
BEGIN:VEVENT
DTSTART;TZID=America/New_York:20190310T120000
DTEND;TZID=America/New_York:20190310T153000
DTSTAMP:20260423T050729
CREATED:20180814T124929Z
LAST-MODIFIED:20180814T124929Z
UID:10000472-1552219200-1552231800@www.beginningsinc.org
SUMMARY:CASA Basket Party
DESCRIPTION:
URL:https://www.beginningsinc.org/event/casa-basket-party-2/
END:VEVENT
BEGIN:VEVENT
DTSTART;TZID=America/New_York:20181214T100000
DTEND;TZID=America/New_York:20181214T120000
DTSTAMP:20260423T050729
CREATED:20180828T194303Z
LAST-MODIFIED:20180828T194303Z
UID:10000698-1544781600-1544788800@www.beginningsinc.org
SUMMARY:PACT  Copy
DESCRIPTION:Structured Socialization\nFun & Hands-on\nReinforces All Areas of Development\nStimulating\nLearning by Doing\nIncludes Caregivers in Play\n\nFor children of all abilities\nBirth-age 5 & their siblings
URL:https://www.beginningsinc.org/event/pact-copy-25/
END:VEVENT
BEGIN:VEVENT
DTSTART;TZID=America/New_York:20181210T100000
DTEND;TZID=America/New_York:20181210T120000
DTSTAMP:20260423T050729
CREATED:20180828T194237Z
LAST-MODIFIED:20180828T194237Z
UID:10000622-1544436000-1544443200@www.beginningsinc.org
SUMMARY:PACT  Copy
DESCRIPTION:Structured Socialization\nFun & Hands-on\nReinforces All Areas of Development\nStimulating\nLearning by Doing\nIncludes Caregivers in Play\n\nFor children of all abilities\nBirth-age 5 & their siblings
URL:https://www.beginningsinc.org/event/pact-copy-24/
END:VEVENT
BEGIN:VEVENT
DTSTART;TZID=America/New_York:20181207T100000
DTEND;TZID=America/New_York:20181207T120000
DTSTAMP:20260423T050729
CREATED:20180828T194023Z
LAST-MODIFIED:20180828T194023Z
UID:10000700-1544176800-1544184000@www.beginningsinc.org
SUMMARY:PACT  Copy
DESCRIPTION:Structured Socialization\nFun & Hands-on\nReinforces All Areas of Development\nStimulating\nLearning by Doing\nIncludes Caregivers in Play\n\nFor children of all abilities\nBirth-age 5 & their siblings
URL:https://www.beginningsinc.org/event/pact-copy-23/
END:VEVENT
BEGIN:VEVENT
DTSTART;TZID=America/New_York:20181203T100000
DTEND;TZID=America/New_York:20181203T120000
DTSTAMP:20260423T050729
CREATED:20180828T194001Z
LAST-MODIFIED:20180828T194001Z
UID:10000701-1543831200-1543838400@www.beginningsinc.org
SUMMARY:PACT  Copy
DESCRIPTION:Structured Socialization\nFun & Hands-on\nReinforces All Areas of Development\nStimulating\nLearning by Doing\nIncludes Caregivers in Play\n\nFor children of all abilities\nBirth-age 5 & their siblings
URL:https://www.beginningsinc.org/event/pact-copy-22/
END:VEVENT
BEGIN:VEVENT
DTSTART;TZID=America/New_York:20181130T100000
DTEND;TZID=America/New_York:20181130T120000
DTSTAMP:20260423T050729
CREATED:20180828T193926Z
LAST-MODIFIED:20180828T193926Z
UID:10000702-1543572000-1543579200@www.beginningsinc.org
SUMMARY:PACT  Copy
DESCRIPTION:Structured Socialization\nFun & Hands-on\nReinforces All Areas of Development\nStimulating\nLearning by Doing\nIncludes Caregivers in Play\n\nFor children of all abilities\nBirth-age 5 & their siblings
URL:https://www.beginningsinc.org/event/pact-copy-21/
END:VEVENT
BEGIN:VEVENT
DTSTART;TZID=America/New_York:20181119T100000
DTEND;TZID=America/New_York:20181119T120000
DTSTAMP:20260423T050729
CREATED:20180828T193849Z
LAST-MODIFIED:20180828T193849Z
UID:10000703-1542621600-1542628800@www.beginningsinc.org
SUMMARY:PACT  Copy
DESCRIPTION:Structured Socialization\nFun & Hands-on\nReinforces All Areas of Development\nStimulating\nLearning by Doing\nIncludes Caregivers in Play\n\nFor children of all abilities\nBirth-age 5 & their siblings
URL:https://www.beginningsinc.org/event/pact-copy-20/
END:VEVENT
BEGIN:VEVENT
DTSTART;TZID=America/New_York:20181116T100000
DTEND;TZID=America/New_York:20181116T120000
DTSTAMP:20260423T050729
CREATED:20180828T193817Z
LAST-MODIFIED:20180828T193817Z
UID:10000704-1542362400-1542369600@www.beginningsinc.org
SUMMARY:PACT  Copy
DESCRIPTION:Structured Socialization\nFun & Hands-on\nReinforces All Areas of Development\nStimulating\nLearning by Doing\nIncludes Caregivers in Play\n\nFor children of all abilities\nBirth-age 5 & their siblings
URL:https://www.beginningsinc.org/event/pact-copy-19/
END:VEVENT
BEGIN:VEVENT
DTSTART;TZID=America/New_York:20181115T183000
DTEND;TZID=America/New_York:20181115T200000
DTSTAMP:20260423T050729
CREATED:20180814T124627Z
LAST-MODIFIED:20180814T124627Z
UID:10000473-1542306600-1542312000@www.beginningsinc.org
SUMMARY:CASA Volunteer Swearing In
DESCRIPTION:
URL:https://www.beginningsinc.org/event/casa-volunteer-swearing-in/
END:VEVENT
BEGIN:VEVENT
DTSTART;TZID=America/New_York:20181111T120000
DTEND;TZID=America/New_York:20181111T150000
DTSTAMP:20260423T050729
CREATED:20180829T162758Z
LAST-MODIFIED:20180829T162758Z
UID:10000697-1541937600-1541948400@www.beginningsinc.org
SUMMARY:Beginnings Toy Bash
DESCRIPTION:
URL:https://www.beginningsinc.org/event/beginnings-toy-bash/
END:VEVENT
BEGIN:VEVENT
DTSTART;TZID=America/New_York:20181109T100000
DTEND;TZID=America/New_York:20181109T120000
DTSTAMP:20260423T050729
CREATED:20180828T193634Z
LAST-MODIFIED:20180828T193634Z
UID:10000705-1541757600-1541764800@www.beginningsinc.org
SUMMARY:PACT  Copy
DESCRIPTION:Structured Socialization\nFun & Hands-on\nReinforces All Areas of Development\nStimulating\nLearning by Doing\nIncludes Caregivers in Play\n\nFor children of all abilities\nBirth-age 5 & their siblings
URL:https://www.beginningsinc.org/event/pact-copy-17/
END:VEVENT
BEGIN:VEVENT
DTSTART;TZID=America/New_York:20181105T100000
DTEND;TZID=America/New_York:20181105T120000
DTSTAMP:20260423T050729
CREATED:20180828T193610Z
LAST-MODIFIED:20180828T193610Z
UID:10000706-1541412000-1541419200@www.beginningsinc.org
SUMMARY:PACT  Copy
DESCRIPTION:Structured Socialization\nFun & Hands-on\nReinforces All Areas of Development\nStimulating\nLearning by Doing\nIncludes Caregivers in Play\n\nFor children of all abilities\nBirth-age 5 & their siblings
URL:https://www.beginningsinc.org/event/pact-copy-16/
END:VEVENT
BEGIN:VEVENT
DTSTART;TZID=America/New_York:20181102T100000
DTEND;TZID=America/New_York:20181102T120000
DTSTAMP:20260423T050729
CREATED:20180828T193525Z
LAST-MODIFIED:20180828T193525Z
UID:10000707-1541152800-1541160000@www.beginningsinc.org
SUMMARY:PACT  Copy
DESCRIPTION:Structured Socialization\nFun & Hands-on\nReinforces All Areas of Development\nStimulating\nLearning by Doing\nIncludes Caregivers in Play\n\nFor children of all abilities\nBirth-age 5 & their siblings
URL:https://www.beginningsinc.org/event/pact-copy-15/
END:VEVENT
BEGIN:VEVENT
DTSTART;TZID=America/New_York:20181029T100000
DTEND;TZID=America/New_York:20181029T120000
DTSTAMP:20260423T050729
CREATED:20180828T193304Z
LAST-MODIFIED:20180828T193304Z
UID:10000708-1540807200-1540814400@www.beginningsinc.org
SUMMARY:PACT  Copy
DESCRIPTION:Structured Socialization\nFun & Hands-on\nReinforces All Areas of Development\nStimulating\nLearning by Doing\nIncludes Caregivers in Play\n\nFor children of all abilities\nBirth-age 5 & their siblings
URL:https://www.beginningsinc.org/event/pact-copy-14/
END:VEVENT
BEGIN:VEVENT
DTSTART;TZID=America/New_York:20181026T100000
DTEND;TZID=America/New_York:20181026T120000
DTSTAMP:20260423T050729
CREATED:20180828T193237Z
LAST-MODIFIED:20180828T193237Z
UID:10000709-1540548000-1540555200@www.beginningsinc.org
SUMMARY:PACT  Copy
DESCRIPTION:Structured Socialization\nFun & Hands-on\nReinforces All Areas of Development\nStimulating\nLearning by Doing\nIncludes Caregivers in Play\n\nFor children of all abilities\nBirth-age 5 & their siblings
URL:https://www.beginningsinc.org/event/pact-copy-13/
END:VEVENT
BEGIN:VEVENT
DTSTART;TZID=America/New_York:20181022T100000
DTEND;TZID=America/New_York:20181022T120000
DTSTAMP:20260423T050729
CREATED:20180828T193216Z
LAST-MODIFIED:20180828T193216Z
UID:10000699-1540202400-1540209600@www.beginningsinc.org
SUMMARY:PACT  Copy
DESCRIPTION:Structured Socialization\nFun & Hands-on\nReinforces All Areas of Development\nStimulating\nLearning by Doing\nIncludes Caregivers in Play\n\nFor children of all abilities\nBirth-age 5 & their siblings
URL:https://www.beginningsinc.org/event/pact-copy-12/
END:VEVENT
BEGIN:VEVENT
DTSTART;TZID=America/New_York:20181019T100000
DTEND;TZID=America/New_York:20181019T120000
DTSTAMP:20260423T050729
CREATED:20180828T192529Z
LAST-MODIFIED:20180828T192529Z
UID:10000471-1539943200-1539950400@www.beginningsinc.org
SUMMARY:PACT
DESCRIPTION:Structured Socialization\nFun & Hands-on\nReinforces All Areas of Development\nStimulating\nLearning by Doing\nIncludes Caregivers in Play\n\nFor children of all abilities\nBirth-age 5 & their siblings
URL:https://www.beginningsinc.org/event/pact/
END:VEVENT
BEGIN:VEVENT
DTSTART;TZID=America/New_York:20181015T100000
DTEND;TZID=America/New_York:20181015T120000
DTSTAMP:20260423T050729
CREATED:20180828T193134Z
LAST-MODIFIED:20180828T193134Z
UID:10000443-1539597600-1539604800@www.beginningsinc.org
SUMMARY:PACT  Copy
DESCRIPTION:Structured Socialization\nFun & Hands-on\nReinforces All Areas of Development\nStimulating\nLearning by Doing\nIncludes Caregivers in Play\n\nFor children of all abilities\nBirth-age 5 & their siblings
URL:https://www.beginningsinc.org/event/pact-copy-11/
END:VEVENT
BEGIN:VEVENT
DTSTART;TZID=America/New_York:20181012T100000
DTEND;TZID=America/New_York:20181012T120000
DTSTAMP:20260423T050729
CREATED:20180828T193113Z
LAST-MODIFIED:20180828T193113Z
UID:10000442-1539338400-1539345600@www.beginningsinc.org
SUMMARY:PACT  Copy
DESCRIPTION:Structured Socialization\nFun & Hands-on\nReinforces All Areas of Development\nStimulating\nLearning by Doing\nIncludes Caregivers in Play\n\nFor children of all abilities\nBirth-age 5 & their siblings
URL:https://www.beginningsinc.org/event/pact-copy-10/
END:VEVENT
BEGIN:VEVENT
DTSTART;TZID=America/New_York:20181010T180000
DTEND;TZID=America/New_York:20181010T210000
DTSTAMP:20260423T050729
CREATED:20180814T124420Z
LAST-MODIFIED:20180814T124420Z
UID:10000474-1539194400-1539205200@www.beginningsinc.org
SUMMARY:CASA Fall Training
DESCRIPTION:
URL:https://www.beginningsinc.org/event/casa-fall-training/
END:VEVENT
BEGIN:VEVENT
DTSTART;TZID=America/New_York:20181008T100000
DTEND;TZID=America/New_York:20181008T120000
DTSTAMP:20260423T050729
CREATED:20180828T193049Z
LAST-MODIFIED:20180828T193049Z
UID:10000441-1538992800-1539000000@www.beginningsinc.org
SUMMARY:PACT  Copy
DESCRIPTION:Structured Socialization\nFun & Hands-on\nReinforces All Areas of Development\nStimulating\nLearning by Doing\nIncludes Caregivers in Play\n\nFor children of all abilities\nBirth-age 5 & their siblings
URL:https://www.beginningsinc.org/event/pact-copy-9/
END:VEVENT
BEGIN:VEVENT
DTSTART;TZID=America/New_York:20181005T100000
DTEND;TZID=America/New_York:20181005T120000
DTSTAMP:20260423T050729
CREATED:20180828T193023Z
LAST-MODIFIED:20180828T193023Z
UID:10000440-1538733600-1538740800@www.beginningsinc.org
SUMMARY:PACT  Copy
DESCRIPTION:Structured Socialization\nFun & Hands-on\nReinforces All Areas of Development\nStimulating\nLearning by Doing\nIncludes Caregivers in Play\n\nFor children of all abilities\nBirth-age 5 & their siblings
URL:https://www.beginningsinc.org/event/pact-copy-8/
END:VEVENT
BEGIN:VEVENT
DTSTART;TZID=America/New_York:20181001T100000
DTEND;TZID=America/New_York:20181001T120000
DTSTAMP:20260423T050729
CREATED:20180828T193004Z
LAST-MODIFIED:20180828T193004Z
UID:10000439-1538388000-1538395200@www.beginningsinc.org
SUMMARY:PACT  Copy
DESCRIPTION:Structured Socialization\nFun & Hands-on\nReinforces All Areas of Development\nStimulating\nLearning by Doing\nIncludes Caregivers in Play\n\nFor children of all abilities\nBirth-age 5 & their siblings
URL:https://www.beginningsinc.org/event/pact-copy-7/
END:VEVENT
BEGIN:VEVENT
DTSTART;TZID=America/New_York:20180929T130000
DTEND;TZID=America/New_York:20180929T190000
DTSTAMP:20260423T050729
CREATED:20180814T124105Z
LAST-MODIFIED:20180814T124105Z
UID:10000475-1538226000-1538247600@www.beginningsinc.org
SUMMARY:CASA Cornhole Tournament
DESCRIPTION:Join Cambria/Somerset CASA for Cornhole for a cause! \nWe are a hosting a double elimination\, winner take all cornhole tournament at Jim & Jimmie’s on Somerset Pike. Registration fee will be $40 per two person team. All tournament participants are welcome to a buffet\, provided courtesy of Jim & Jimmies! \nRegistration will open at 1PM and bags fly at 2PM! \nIn addition to the tournament\, the bar will open for good food and cold drinks. There will also be live music and other games and prizes! \nAll funds raised at this event will go towards supporting abused and neglected children in Cambria and Somerset Counties. \n  \n 
URL:https://www.beginningsinc.org/event/casa-cornhole-tournament/
END:VEVENT
BEGIN:VEVENT
DTSTART;TZID=America/New_York:20180928T100000
DTEND;TZID=America/New_York:20180928T120000
DTSTAMP:20260423T050729
CREATED:20180828T192927Z
LAST-MODIFIED:20180828T192927Z
UID:10000438-1538128800-1538136000@www.beginningsinc.org
SUMMARY:PACT  Copy
DESCRIPTION:Structured Socialization\nFun & Hands-on\nReinforces All Areas of Development\nStimulating\nLearning by Doing\nIncludes Caregivers in Play\n\nFor children of all abilities\nBirth-age 5 & their siblings
URL:https://www.beginningsinc.org/event/pact-copy-6/
END:VEVENT
BEGIN:VEVENT
DTSTART;TZID=America/New_York:20180924T100000
DTEND;TZID=America/New_York:20180924T120000
DTSTAMP:20260423T050729
CREATED:20180828T192906Z
LAST-MODIFIED:20180828T192906Z
UID:10000437-1537783200-1537790400@www.beginningsinc.org
SUMMARY:PACT  Copy
DESCRIPTION:Structured Socialization\nFun & Hands-on\nReinforces All Areas of Development\nStimulating\nLearning by Doing\nIncludes Caregivers in Play\n\nFor children of all abilities\nBirth-age 5 & their siblings
URL:https://www.beginningsinc.org/event/pact-copy-5/
END:VEVENT
BEGIN:VEVENT
DTSTART;TZID=America/New_York:20180921T100000
DTEND;TZID=America/New_York:20180921T120000
DTSTAMP:20260423T050729
CREATED:20180828T192846Z
LAST-MODIFIED:20180828T192846Z
UID:10000436-1537524000-1537531200@www.beginningsinc.org
SUMMARY:PACT  Copy
DESCRIPTION:Structured Socialization\nFun & Hands-on\nReinforces All Areas of Development\nStimulating\nLearning by Doing\nIncludes Caregivers in Play\n\nFor children of all abilities\nBirth-age 5 & their siblings
URL:https://www.beginningsinc.org/event/pact-copy-4/
END:VEVENT
BEGIN:VEVENT
DTSTART;TZID=America/New_York:20180917T100000
DTEND;TZID=America/New_York:20180917T120000
DTSTAMP:20260423T050729
CREATED:20180828T192827Z
LAST-MODIFIED:20180828T192827Z
UID:10000435-1537178400-1537185600@www.beginningsinc.org
SUMMARY:PACT  Copy
DESCRIPTION:Structured Socialization\nFun & Hands-on\nReinforces All Areas of Development\nStimulating\nLearning by Doing\nIncludes Caregivers in Play\n\nFor children of all abilities\nBirth-age 5 & their siblings
URL:https://www.beginningsinc.org/event/pact-copy-3/
END:VEVENT
END:VCALENDAR