BEGIN:VCALENDAR
VERSION:2.0
PRODID:-//Beginnings Inc - ECPv6.15.18//NONSGML v1.0//EN
CALSCALE:GREGORIAN
METHOD:PUBLISH
X-WR-CALNAME:Beginnings Inc
X-ORIGINAL-URL:https://www.beginningsinc.org
X-WR-CALDESC:Events for Beginnings Inc
REFRESH-INTERVAL;VALUE=DURATION:PT1H
X-Robots-Tag:noindex
X-PUBLISHED-TTL:PT1H
BEGIN:VTIMEZONE
TZID:America/New_York
BEGIN:DAYLIGHT
TZOFFSETFROM:-0500
TZOFFSETTO:-0400
TZNAME:EDT
DTSTART:20170312T070000
END:DAYLIGHT
BEGIN:STANDARD
TZOFFSETFROM:-0400
TZOFFSETTO:-0500
TZNAME:EST
DTSTART:20171105T060000
END:STANDARD
BEGIN:DAYLIGHT
TZOFFSETFROM:-0500
TZOFFSETTO:-0400
TZNAME:EDT
DTSTART:20180311T070000
END:DAYLIGHT
BEGIN:STANDARD
TZOFFSETFROM:-0400
TZOFFSETTO:-0500
TZNAME:EST
DTSTART:20181104T060000
END:STANDARD
BEGIN:DAYLIGHT
TZOFFSETFROM:-0500
TZOFFSETTO:-0400
TZNAME:EDT
DTSTART:20190310T070000
END:DAYLIGHT
BEGIN:STANDARD
TZOFFSETFROM:-0400
TZOFFSETTO:-0500
TZNAME:EST
DTSTART:20191103T060000
END:STANDARD
END:VTIMEZONE
BEGIN:VEVENT
DTSTART;TZID=America/New_York:20180808T093000
DTEND;TZID=America/New_York:20180808T113000
DTSTAMP:20260422T184942
CREATED:20180524T180527Z
LAST-MODIFIED:20180524T180527Z
UID:10000512-1533720600-1533727800@www.beginningsinc.org
SUMMARY:Mother to Mother Breast Feeding Support Group
DESCRIPTION:
URL:https://www.beginningsinc.org/event/mother-to-mother-breast-feeding-support-group/
LOCATION:PA
END:VEVENT
BEGIN:VEVENT
DTSTART;TZID=America/New_York:20180727T100000
DTEND;TZID=America/New_York:20180727T120000
DTSTAMP:20260422T184942
CREATED:20180524T181030Z
LAST-MODIFIED:20180524T181030Z
UID:10000480-1532685600-1532692800@www.beginningsinc.org
SUMMARY:PACT (Parent and Child Together) Playgroup  Copy  Copy
DESCRIPTION:Structured Socialization\nFun & Hands-on\nReinforces All Areas of Development\nStimulating\nLearning by Doing\nIncludes Caregivers in Play\n\nFor children of all abilities\nBirth-age 5 & their siblings
URL:https://www.beginningsinc.org/event/pact-parent-and-child-together-playgroup-copy-5-copy-copy-7/
LOCATION:PA
END:VEVENT
BEGIN:VEVENT
DTSTART;TZID=America/New_York:20180725T100000
DTEND;TZID=America/New_York:20180725T120000
DTSTAMP:20260422T184942
CREATED:20180524T181003Z
LAST-MODIFIED:20180524T181003Z
UID:10000481-1532512800-1532520000@www.beginningsinc.org
SUMMARY:PACT (Parent and Child Together) Playgroup  Copy  Copy
DESCRIPTION:Structured Socialization\nFun & Hands-on\nReinforces All Areas of Development\nStimulating\nLearning by Doing\nIncludes Caregivers in Play\n\nFor children of all abilities\nBirth-age 5 & their siblings
URL:https://www.beginningsinc.org/event/pact-parent-and-child-together-playgroup-copy-5-copy-copy-6/
LOCATION:PA
END:VEVENT
BEGIN:VEVENT
DTSTART;TZID=America/New_York:20180713T170000
DTEND;TZID=America/New_York:20180713T190000
DTSTAMP:20260422T184942
CREATED:20180524T182313Z
LAST-MODIFIED:20180524T182313Z
UID:10000478-1531501200-1531508400@www.beginningsinc.org
SUMMARY:
DESCRIPTION:Suggested ages 4-12 \nRSVP to mfaust@beginningsinc.org by July 6th
URL:https://www.beginningsinc.org/event/1084/
LOCATION:PA
END:VEVENT
BEGIN:VEVENT
DTSTART;TZID=America/New_York:20180711T093000
DTEND;TZID=America/New_York:20180711T113000
DTSTAMP:20260422T184942
CREATED:20180524T180607Z
LAST-MODIFIED:20180524T180607Z
UID:10000490-1531301400-1531308600@www.beginningsinc.org
SUMMARY:Mother to Mother Breast Feeding Support Group  Copy
DESCRIPTION:
URL:https://www.beginningsinc.org/event/mother-to-mother-breast-feeding-support-group-copy-2/
LOCATION:PA
END:VEVENT
BEGIN:VEVENT
DTSTART;TZID=America/New_York:20180704T080000
DTEND;TZID=America/New_York:20180704T170000
DTSTAMP:20260422T184942
CREATED:20180524T183659Z
LAST-MODIFIED:20180524T183659Z
UID:10000476-1530691200-1530723600@www.beginningsinc.org
SUMMARY:Happy Independence Day
DESCRIPTION:Office Closed
URL:https://www.beginningsinc.org/event/happy-independence-day/
LOCATION:PA
END:VEVENT
BEGIN:VEVENT
DTSTART;TZID=America/New_York:20180629T100000
DTEND;TZID=America/New_York:20180629T120000
DTSTAMP:20260422T184942
CREATED:20180524T180938Z
LAST-MODIFIED:20180524T180938Z
UID:10000469-1530266400-1530273600@www.beginningsinc.org
SUMMARY:PACT (Parent and Child Together) Playgroup  Copy  Copy
DESCRIPTION:Structured Socialization\nFun & Hands-on\nReinforces All Areas of Development\nStimulating\nLearning by Doing\nIncludes Caregivers in Play\n\nFor children of all abilities\nBirth-age 5 & their siblings
URL:https://www.beginningsinc.org/event/pact-parent-and-child-together-playgroup-copy-5-copy-copy-5/
LOCATION:PA
END:VEVENT
BEGIN:VEVENT
DTSTART;TZID=America/New_York:20180627T100000
DTEND;TZID=America/New_York:20180627T120000
DTSTAMP:20260422T184942
CREATED:20180524T180832Z
LAST-MODIFIED:20180524T180832Z
UID:10000486-1530093600-1530100800@www.beginningsinc.org
SUMMARY:PACT (Parent and Child Together) Playgroup  Copy  Copy
DESCRIPTION:Structured Socialization\nFun & Hands-on\nReinforces All Areas of Development\nStimulating\nLearning by Doing\nIncludes Caregivers in Play\n\nFor children of all abilities\nBirth-age 5 & their siblings
URL:https://www.beginningsinc.org/event/pact-parent-and-child-together-playgroup-copy-5-copy-copy-4/
LOCATION:PA
END:VEVENT
BEGIN:VEVENT
DTSTART;TZID=America/New_York:20180613T093000
DTEND;TZID=America/New_York:20180613T113000
DTSTAMP:20260422T184942
CREATED:20180524T180533Z
LAST-MODIFIED:20180524T180533Z
UID:10000499-1528882200-1528889400@www.beginningsinc.org
SUMMARY:Mother to Mother Breast Feeding Support Group  Copy
DESCRIPTION:
URL:https://www.beginningsinc.org/event/mother-to-mother-breast-feeding-support-group-copy/
LOCATION:PA
END:VEVENT
BEGIN:VEVENT
DTSTART;TZID=America/New_York:20180608T160000
DTEND;TZID=America/New_York:20180608T190000
DTSTAMP:20260422T184942
CREATED:20180524T180132Z
LAST-MODIFIED:20180524T180132Z
UID:10000513-1528473600-1528484400@www.beginningsinc.org
SUMMARY:Kid's Affair
DESCRIPTION:Join us for a FREE evening of: \nClimbing Walls \nBounce Houses \nPrizes \nGames \nCommunity Resources \nPerformances \nMusic \nAnd SO MUCH MORE
URL:https://www.beginningsinc.org/event/kids-affair/
LOCATION:PA
END:VEVENT
BEGIN:VEVENT
DTSTART;TZID=America/New_York:20180601T100000
DTEND;TZID=America/New_York:20180601T120000
DTSTAMP:20260422T184942
CREATED:20180302T212020Z
LAST-MODIFIED:20180302T212020Z
UID:10000448-1527847200-1527854400@www.beginningsinc.org
SUMMARY:Nutrition Links
DESCRIPTION:Teaching people how to eat better for less. \n5-part series of lessons and activities on various topics to help you care and feed your family a healthy diet on a limited budget. \n\nLearn how to prepare low-cost\, quick meals\nTry new\, nutritious foods\nOther topics will be covered such as My Plate\, food labels\, food planning\, and much more\nFREE GIFTS with completion\n\nCertificate\nCook book\nCalendar\nWalk DVD\nMeasuring Cups\nGrocery Bag\nShopping List\nMeat Thermometer\nFridge Thermometer\nCutting board\nMyPlate
URL:https://www.beginningsinc.org/event/nutrition-links/
LOCATION:PA
END:VEVENT
BEGIN:VEVENT
DTSTART;TZID=America/New_York:20180528T080000
DTEND;TZID=America/New_York:20180528T160000
DTSTAMP:20260422T184942
CREATED:20180424T233525Z
LAST-MODIFIED:20180424T233525Z
UID:10000521-1527494400-1527523200@www.beginningsinc.org
SUMMARY:Office Closed
DESCRIPTION:
URL:https://www.beginningsinc.org/event/office-closed-2/
LOCATION:PA
END:VEVENT
BEGIN:VEVENT
DTSTART;TZID=America/New_York:20180525T100000
DTEND;TZID=America/New_York:20180525T120000
DTSTAMP:20260422T184942
CREATED:20180302T212259Z
LAST-MODIFIED:20180302T212259Z
UID:10000485-1527242400-1527249600@www.beginningsinc.org
SUMMARY:Nutrition Links
DESCRIPTION:Teaching people how to eat better for less. \n5-part series of lessons and activities on various topics to help you care and feed your family a healthy diet on a limited budget. \n\nLearn how to prepare low-cost\, quick meals\nTry new\, nutritious foods\nOther topics will be covered such as My Plate\, food labels\, food planning\, and much more\nFREE GIFTS with completion\n\nCertificate\nCook book\nCalendar\nWalk DVD\nMeasuring Cups\nGrocery Bag\nShopping List\nMeat Thermometer\nFridge Thermometer\nCutting board\nMyPlate
URL:https://www.beginningsinc.org/event/nutrition-links-copy-4/
LOCATION:PA
END:VEVENT
BEGIN:VEVENT
DTSTART;TZID=America/New_York:20180521T100000
DTEND;TZID=America/New_York:20180521T140000
DTSTAMP:20260422T184942
CREATED:20180424T232844Z
LAST-MODIFIED:20180424T232844Z
UID:10000524-1526896800-1526911200@www.beginningsinc.org
SUMMARY:PACT (Parent and Child Together) Playgroup  Copy  Copy
DESCRIPTION:Structured Socialization\nFun & Hands-on\nReinforces All Areas of Development\nStimulating\nLearning by Doing\nIncludes Caregivers in Play\n\nFor children of all abilities\nBirth-age 5 & their siblings
URL:https://www.beginningsinc.org/event/pact-parent-and-child-together-playgroup-copy-5-copy-copy/
LOCATION:PA
END:VEVENT
BEGIN:VEVENT
DTSTART;TZID=America/New_York:20180518T100000
DTEND;TZID=America/New_York:20180518T120000
DTSTAMP:20260422T184942
CREATED:20180302T212233Z
LAST-MODIFIED:20180302T212233Z
UID:10000445-1526637600-1526644800@www.beginningsinc.org
SUMMARY:Nutrition Links
DESCRIPTION:Teaching people how to eat better for less. \n5-part series of lessons and activities on various topics to help you care and feed your family a healthy diet on a limited budget. \n\nLearn how to prepare low-cost\, quick meals\nTry new\, nutritious foods\nOther topics will be covered such as My Plate\, food labels\, food planning\, and much more\nFREE GIFTS with completion\n\nCertificate\nCook book\nCalendar\nWalk DVD\nMeasuring Cups\nGrocery Bag\nShopping List\nMeat Thermometer\nFridge Thermometer\nCutting board\nMyPlate
URL:https://www.beginningsinc.org/event/nutrition-links-copy-3/
LOCATION:PA
END:VEVENT
BEGIN:VEVENT
DTSTART;TZID=America/New_York:20180514T100000
DTEND;TZID=America/New_York:20180514T120000
DTSTAMP:20260422T184942
CREATED:20180524T180751Z
LAST-MODIFIED:20180524T180751Z
UID:10000488-1526292000-1526299200@www.beginningsinc.org
SUMMARY:PACT (Parent and Child Together) Playgroup  Copy  Copy
DESCRIPTION:Structured Socialization\nFun & Hands-on\nReinforces All Areas of Development\nStimulating\nLearning by Doing\nIncludes Caregivers in Play\n\nFor children of all abilities\nBirth-age 5 & their siblings
URL:https://www.beginningsinc.org/event/pact-parent-and-child-together-playgroup-copy-5-copy-copy-3/
LOCATION:PA
END:VEVENT
BEGIN:VEVENT
DTSTART;TZID=America/New_York:20180511T100000
DTEND;TZID=America/New_York:20180511T120000
DTSTAMP:20260422T184942
CREATED:20180302T212206Z
LAST-MODIFIED:20180302T212206Z
UID:10000446-1526032800-1526040000@www.beginningsinc.org
SUMMARY:Nutrition Links
DESCRIPTION:Teaching people how to eat better for less. \n5-part series of lessons and activities on various topics to help you care and feed your family a healthy diet on a limited budget. \n\nLearn how to prepare low-cost\, quick meals\nTry new\, nutritious foods\nOther topics will be covered such as My Plate\, food labels\, food planning\, and much more\nFREE GIFTS with completion\n\nCertificate\nCook book\nCalendar\nWalk DVD\nMeasuring Cups\nGrocery Bag\nShopping List\nMeat Thermometer\nFridge Thermometer\nCutting board\nMyPlate
URL:https://www.beginningsinc.org/event/nutrition-links-copy-2/
LOCATION:PA
END:VEVENT
BEGIN:VEVENT
DTSTART;TZID=America/New_York:20180507T100000
DTEND;TZID=America/New_York:20180507T140000
DTSTAMP:20260422T184942
CREATED:20180424T232912Z
LAST-MODIFIED:20180424T232912Z
UID:10000523-1525687200-1525701600@www.beginningsinc.org
SUMMARY:PACT (Parent and Child Together) Playgroup  Copy  Copy
DESCRIPTION:Structured Socialization\nFun & Hands-on\nReinforces All Areas of Development\nStimulating\nLearning by Doing\nIncludes Caregivers in Play\n\nFor children of all abilities\nBirth-age 5 & their siblings
URL:https://www.beginningsinc.org/event/pact-parent-and-child-together-playgroup-copy-5-copy-copy-2/
LOCATION:PA
END:VEVENT
BEGIN:VEVENT
DTSTART;TZID=America/New_York:20180504T100000
DTEND;TZID=America/New_York:20180504T120000
DTSTAMP:20260422T184942
CREATED:20180302T212135Z
LAST-MODIFIED:20180302T212135Z
UID:10000447-1525428000-1525435200@www.beginningsinc.org
SUMMARY:Nutrition Links
DESCRIPTION:Teaching people how to eat better for less. \n5-part series of lessons and activities on various topics to help you care and feed your family a healthy diet on a limited budget. \n\nLearn how to prepare low-cost\, quick meals\nTry new\, nutritious foods\nOther topics will be covered such as My Plate\, food labels\, food planning\, and much more\nFREE GIFTS with completion\n\nCertificate\nCook book\nCalendar\nWalk DVD\nMeasuring Cups\nGrocery Bag\nShopping List\nMeat Thermometer\nFridge Thermometer\nCutting board\nMyPlate
URL:https://www.beginningsinc.org/event/nutrition-links-copy/
LOCATION:PA
END:VEVENT
BEGIN:VEVENT
DTSTART;TZID=America/New_York:20180430T100000
DTEND;TZID=America/New_York:20180430T140000
DTSTAMP:20260422T184942
CREATED:20180302T181826Z
LAST-MODIFIED:20180302T181826Z
UID:10000456-1525082400-1525096800@www.beginningsinc.org
SUMMARY:PACT (Parent and Child Together) Playgroup
DESCRIPTION:Structured Socialization\nFun & Hands-on\nReinforces All Areas of Development\nStimulating\nLearning by Doing\nIncludes Caregivers in Play\n\nFor children of all abilities\nBirth-age 5 & their siblings
URL:https://www.beginningsinc.org/event/pact-parent-and-child-together-playgroup-copy-5/
LOCATION:PA
END:VEVENT
BEGIN:VEVENT
DTSTART;TZID=America/New_York:20180427T100000
DTEND;TZID=America/New_York:20180427T120000
DTSTAMP:20260422T184942
CREATED:20180302T014549Z
LAST-MODIFIED:20180302T014549Z
UID:10000463-1524823200-1524830400@www.beginningsinc.org
SUMMARY:PACT (Parent and Child Together) Playgroup
DESCRIPTION:Structured Socialization\nFun & Hands-on\nReinforces All Areas of Development\nStimulating\nLearning by Doing\nIncludes Caregivers in Play\n\nFor children of all abilities\nBirth-age 5 & their siblings
URL:https://www.beginningsinc.org/event/pact-parent-and-child-together-playgroup-03162018/
LOCATION:PA
ATTACH;FMTTYPE=:
END:VEVENT
BEGIN:VEVENT
DTSTART;TZID=America/New_York:20180423T100000
DTEND;TZID=America/New_York:20180423T140000
DTSTAMP:20260422T184942
CREATED:20180302T181854Z
LAST-MODIFIED:20180302T181854Z
UID:10000455-1524477600-1524492000@www.beginningsinc.org
SUMMARY:PACT (Parent and Child Together) Playgroup
DESCRIPTION:Structured Socialization\nFun & Hands-on\nReinforces All Areas of Development\nStimulating\nLearning by Doing\nIncludes Caregivers in Play\n\nFor children of all abilities\nBirth-age 5 & their siblings
URL:https://www.beginningsinc.org/event/pact-parent-and-child-together-playgroup-copy-6/
LOCATION:PA
END:VEVENT
BEGIN:VEVENT
DTSTART;TZID=America/New_York:20180421T110000
DTEND;TZID=America/New_York:20180421T160000
DTSTAMP:20260422T184942
CREATED:20180302T003725Z
LAST-MODIFIED:20180302T003725Z
UID:10000457-1524308400-1524326400@www.beginningsinc.org
SUMMARY:Force for Beginnings
DESCRIPTION:Beginnings\, Inc. is proud to bring you our second annual Force for Beginnings Mini-Con! \nThis mini comic con will be an event to celebrate ALL fandoms! There will be a variety of vendors\, activities for kids\, games\, fun\, and much much more! \n  \nWe are currently seeking sponsors and vendors. If you are interested in participating in our event\, please let us know! \nThe Force for Beginnings Mini-Con will be a fundraising for Beginnings\, Inc. All money raised will go towards continuing our mission of strengthening families in the area and giving children the best start.
URL:https://www.beginningsinc.org/event/force-for-beginnings/
LOCATION:PA
END:VEVENT
BEGIN:VEVENT
DTSTART;TZID=America/New_York:20180420T100000
DTEND;TZID=America/New_York:20180420T120000
DTSTAMP:20260422T184942
CREATED:20180302T182558Z
LAST-MODIFIED:20180302T182558Z
UID:10000450-1524218400-1524225600@www.beginningsinc.org
SUMMARY:PACT (Parent and Child Together) Playgroup
DESCRIPTION:Structured Socialization\nFun & Hands-on\nReinforces All Areas of Development\nStimulating\nLearning by Doing\nIncludes Caregivers in Play\n\nFor children of all abilities\nBirth-age 5 & their siblings
URL:https://www.beginningsinc.org/event/pact-parent-and-child-together-playgroup-03162018-copy-6/
LOCATION:PA
ATTACH;FMTTYPE=:
END:VEVENT
BEGIN:VEVENT
DTSTART;TZID=America/New_York:20180416T100000
DTEND;TZID=America/New_York:20180416T140000
DTSTAMP:20260422T184942
CREATED:20180302T180902Z
LAST-MODIFIED:20180302T180902Z
UID:10000461-1523872800-1523887200@www.beginningsinc.org
SUMMARY:PACT (Parent and Child Together) Playgroup
DESCRIPTION:Structured Socialization\nFun & Hands-on\nReinforces All Areas of Development\nStimulating\nLearning by Doing\nIncludes Caregivers in Play\n\nFor children of all abilities\nBirth-age 5 & their siblings
URL:https://www.beginningsinc.org/event/pact-parent-and-child-together-playgroup/
LOCATION:PA
END:VEVENT
BEGIN:VEVENT
DTSTART;TZID=America/New_York:20180413T100000
DTEND;TZID=America/New_York:20180413T120000
DTSTAMP:20260422T184942
CREATED:20180302T182518Z
LAST-MODIFIED:20180302T182518Z
UID:10000451-1523613600-1523620800@www.beginningsinc.org
SUMMARY:PACT (Parent and Child Together) Playgroup
DESCRIPTION:Structured Socialization\nFun & Hands-on\nReinforces All Areas of Development\nStimulating\nLearning by Doing\nIncludes Caregivers in Play\n\nFor children of all abilities\nBirth-age 5 & their siblings
URL:https://www.beginningsinc.org/event/pact-parent-and-child-together-playgroup-03162018-copy-5/
LOCATION:PA
ATTACH;FMTTYPE=:
END:VEVENT
BEGIN:VEVENT
DTSTART;TZID=America/New_York:20180409T100000
DTEND;TZID=America/New_York:20180409T140000
DTSTAMP:20260422T184942
CREATED:20180302T182009Z
LAST-MODIFIED:20180302T182009Z
UID:10000454-1523268000-1523282400@www.beginningsinc.org
SUMMARY:PACT (Parent and Child Together) Playgroup
DESCRIPTION:Structured Socialization\nFun & Hands-on\nReinforces All Areas of Development\nStimulating\nLearning by Doing\nIncludes Caregivers in Play\n\nFor children of all abilities\nBirth-age 5 & their siblings
URL:https://www.beginningsinc.org/event/pact-parent-and-child-together-playgroup-copy-7/
LOCATION:PA
END:VEVENT
BEGIN:VEVENT
DTSTART;TZID=America/New_York:20180406T100000
DTEND;TZID=America/New_York:20180406T120000
DTSTAMP:20260422T184942
CREATED:20180302T182358Z
LAST-MODIFIED:20180302T182358Z
UID:10000452-1523008800-1523016000@www.beginningsinc.org
SUMMARY:PACT (Parent and Child Together) Playgroup
DESCRIPTION:Structured Socialization\nFun & Hands-on\nReinforces All Areas of Development\nStimulating\nLearning by Doing\nIncludes Caregivers in Play\n\nFor children of all abilities\nBirth-age 5 & their siblings
URL:https://www.beginningsinc.org/event/pact-parent-and-child-together-playgroup-03162018-copy-4/
LOCATION:PA
ATTACH;FMTTYPE=:
END:VEVENT
BEGIN:VEVENT
DTSTART;VALUE=DATE:20180330
DTEND;VALUE=DATE:20180331
DTSTAMP:20260422T184942
CREATED:20180302T183348Z
LAST-MODIFIED:20180302T183348Z
UID:10000449-1522368000-1522454399@www.beginningsinc.org
SUMMARY:Office Closed
DESCRIPTION:Beginnings Office is closed today. The office will re-open Monday\, April 2nd at 8:00 AM.
URL:https://www.beginningsinc.org/event/office-closed/
LOCATION:PA
END:VEVENT
BEGIN:VEVENT
DTSTART;TZID=America/New_York:20180326T100000
DTEND;TZID=America/New_York:20180326T140000
DTSTAMP:20260422T184942
CREATED:20180302T181608Z
LAST-MODIFIED:20180302T181608Z
UID:10000444-1522058400-1522072800@www.beginningsinc.org
SUMMARY:PACT (Parent and Child Together) Playgroup
DESCRIPTION:Structured Socialization\nFun & Hands-on\nReinforces All Areas of Development\nStimulating\nLearning by Doing\nIncludes Caregivers in Play\n\nFor children of all abilities\nBirth-age 5 & their siblings
URL:https://www.beginningsinc.org/event/pact-parent-and-child-together-playgroup-copy-4/
LOCATION:PA
END:VEVENT
END:VCALENDAR