BEGIN:VCALENDAR
VERSION:2.0
PRODID:-//Beginnings Inc - ECPv6.15.18//NONSGML v1.0//EN
CALSCALE:GREGORIAN
METHOD:PUBLISH
X-WR-CALNAME:Beginnings Inc
X-ORIGINAL-URL:https://www.beginningsinc.org
X-WR-CALDESC:Events for Beginnings Inc
REFRESH-INTERVAL;VALUE=DURATION:PT1H
X-Robots-Tag:noindex
X-PUBLISHED-TTL:PT1H
BEGIN:VTIMEZONE
TZID:America/New_York
BEGIN:DAYLIGHT
TZOFFSETFROM:-0500
TZOFFSETTO:-0400
TZNAME:EDT
DTSTART:20160313T070000
END:DAYLIGHT
BEGIN:STANDARD
TZOFFSETFROM:-0400
TZOFFSETTO:-0500
TZNAME:EST
DTSTART:20161106T060000
END:STANDARD
BEGIN:DAYLIGHT
TZOFFSETFROM:-0500
TZOFFSETTO:-0400
TZNAME:EDT
DTSTART:20170312T070000
END:DAYLIGHT
BEGIN:STANDARD
TZOFFSETFROM:-0400
TZOFFSETTO:-0500
TZNAME:EST
DTSTART:20171105T060000
END:STANDARD
BEGIN:DAYLIGHT
TZOFFSETFROM:-0500
TZOFFSETTO:-0400
TZNAME:EDT
DTSTART:20180311T070000
END:DAYLIGHT
BEGIN:STANDARD
TZOFFSETFROM:-0400
TZOFFSETTO:-0500
TZNAME:EST
DTSTART:20181104T060000
END:STANDARD
BEGIN:DAYLIGHT
TZOFFSETFROM:-0500
TZOFFSETTO:-0400
TZNAME:EDT
DTSTART:20190310T070000
END:DAYLIGHT
BEGIN:STANDARD
TZOFFSETFROM:-0400
TZOFFSETTO:-0500
TZNAME:EST
DTSTART:20191103T060000
END:STANDARD
END:VTIMEZONE
BEGIN:VEVENT
DTSTART;TZID=America/New_York:20180416T100000
DTEND;TZID=America/New_York:20180416T140000
DTSTAMP:20260423T050852
CREATED:20180302T180902Z
LAST-MODIFIED:20180302T180902Z
UID:10000461-1523872800-1523887200@www.beginningsinc.org
SUMMARY:PACT (Parent and Child Together) Playgroup
DESCRIPTION:Structured Socialization\nFun & Hands-on\nReinforces All Areas of Development\nStimulating\nLearning by Doing\nIncludes Caregivers in Play\n\nFor children of all abilities\nBirth-age 5 & their siblings
URL:https://www.beginningsinc.org/event/pact-parent-and-child-together-playgroup/
LOCATION:PA
END:VEVENT
BEGIN:VEVENT
DTSTART;TZID=America/New_York:20180413T100000
DTEND;TZID=America/New_York:20180413T120000
DTSTAMP:20260423T050852
CREATED:20180302T182518Z
LAST-MODIFIED:20180302T182518Z
UID:10000451-1523613600-1523620800@www.beginningsinc.org
SUMMARY:PACT (Parent and Child Together) Playgroup
DESCRIPTION:Structured Socialization\nFun & Hands-on\nReinforces All Areas of Development\nStimulating\nLearning by Doing\nIncludes Caregivers in Play\n\nFor children of all abilities\nBirth-age 5 & their siblings
URL:https://www.beginningsinc.org/event/pact-parent-and-child-together-playgroup-03162018-copy-5/
LOCATION:PA
ATTACH;FMTTYPE=:
END:VEVENT
BEGIN:VEVENT
DTSTART;TZID=America/New_York:20180409T100000
DTEND;TZID=America/New_York:20180409T140000
DTSTAMP:20260423T050852
CREATED:20180302T182009Z
LAST-MODIFIED:20180302T182009Z
UID:10000454-1523268000-1523282400@www.beginningsinc.org
SUMMARY:PACT (Parent and Child Together) Playgroup
DESCRIPTION:Structured Socialization\nFun & Hands-on\nReinforces All Areas of Development\nStimulating\nLearning by Doing\nIncludes Caregivers in Play\n\nFor children of all abilities\nBirth-age 5 & their siblings
URL:https://www.beginningsinc.org/event/pact-parent-and-child-together-playgroup-copy-7/
LOCATION:PA
END:VEVENT
BEGIN:VEVENT
DTSTART;TZID=America/New_York:20180406T100000
DTEND;TZID=America/New_York:20180406T120000
DTSTAMP:20260423T050852
CREATED:20180302T182358Z
LAST-MODIFIED:20180302T182358Z
UID:10000452-1523008800-1523016000@www.beginningsinc.org
SUMMARY:PACT (Parent and Child Together) Playgroup
DESCRIPTION:Structured Socialization\nFun & Hands-on\nReinforces All Areas of Development\nStimulating\nLearning by Doing\nIncludes Caregivers in Play\n\nFor children of all abilities\nBirth-age 5 & their siblings
URL:https://www.beginningsinc.org/event/pact-parent-and-child-together-playgroup-03162018-copy-4/
LOCATION:PA
ATTACH;FMTTYPE=:
END:VEVENT
BEGIN:VEVENT
DTSTART;VALUE=DATE:20180330
DTEND;VALUE=DATE:20180331
DTSTAMP:20260423T050852
CREATED:20180302T183348Z
LAST-MODIFIED:20180302T183348Z
UID:10000449-1522368000-1522454399@www.beginningsinc.org
SUMMARY:Office Closed
DESCRIPTION:Beginnings Office is closed today. The office will re-open Monday\, April 2nd at 8:00 AM.
URL:https://www.beginningsinc.org/event/office-closed/
LOCATION:PA
END:VEVENT
BEGIN:VEVENT
DTSTART;TZID=America/New_York:20180326T100000
DTEND;TZID=America/New_York:20180326T140000
DTSTAMP:20260423T050852
CREATED:20180302T181608Z
LAST-MODIFIED:20180302T181608Z
UID:10000444-1522058400-1522072800@www.beginningsinc.org
SUMMARY:PACT (Parent and Child Together) Playgroup
DESCRIPTION:Structured Socialization\nFun & Hands-on\nReinforces All Areas of Development\nStimulating\nLearning by Doing\nIncludes Caregivers in Play\n\nFor children of all abilities\nBirth-age 5 & their siblings
URL:https://www.beginningsinc.org/event/pact-parent-and-child-together-playgroup-copy-4/
LOCATION:PA
END:VEVENT
BEGIN:VEVENT
DTSTART;TZID=America/New_York:20180323T100000
DTEND;TZID=America/New_York:20180323T120000
DTSTAMP:20260423T050852
CREATED:20180302T013807Z
LAST-MODIFIED:20180302T013807Z
UID:10000465-1521799200-1521806400@www.beginningsinc.org
SUMMARY:PACT (Parent and Child Together) Playgroup
DESCRIPTION:Structured Socialization\nFun & Hands-on\nReinforces All Areas of Development\nStimulating\nLearning by Doing\nIncludes Caregivers in Play\n\nFor children of all abilities\nBirth-age 5 & their siblings
URL:https://www.beginningsinc.org/event/pact-parent-and-child-together-playgroup-03232018-2/
LOCATION:PA
ATTACH;FMTTYPE=:
END:VEVENT
BEGIN:VEVENT
DTSTART;TZID=America/New_York:20180319T180000
DTEND;TZID=America/New_York:20180319T190000
DTSTAMP:20260423T050852
CREATED:20180302T012218Z
LAST-MODIFIED:20180302T012218Z
UID:10000468-1521482400-1521486000@www.beginningsinc.org
SUMMARY:Self Defense
DESCRIPTION:Taught By: Kyra Miller & Phillip Henderson \nFREE Class! Open to the Public! \n*No Childcare provided* \nRSVP by March 16th mfaust@beginningsinc.org
URL:https://www.beginningsinc.org/event/self-defense/
LOCATION:PA
ATTACH;FMTTYPE=:
END:VEVENT
BEGIN:VEVENT
DTSTART;TZID=America/New_York:20180319T100000
DTEND;TZID=America/New_York:20180319T140000
DTSTAMP:20260423T050852
CREATED:20180302T181329Z
LAST-MODIFIED:20180302T181329Z
UID:10000458-1521453600-1521468000@www.beginningsinc.org
SUMMARY:PACT (Parent and Child Together) Playgroup
DESCRIPTION:Structured Socialization\nFun & Hands-on\nReinforces All Areas of Development\nStimulating\nLearning by Doing\nIncludes Caregivers in Play\n\nFor children of all abilities\nBirth-age 5 & their siblings
URL:https://www.beginningsinc.org/event/pact-parent-and-child-together-playgroup-copy-3/
LOCATION:PA
END:VEVENT
BEGIN:VEVENT
DTSTART;TZID=America/New_York:20180318T120000
DTEND;TZID=America/New_York:20180318T120000
DTSTAMP:20260423T050852
CREATED:20180302T012718Z
LAST-MODIFIED:20180302T012718Z
UID:10000467-1521374400-1521374400@www.beginningsinc.org
SUMMARY:CASA Basket Party
DESCRIPTION:Join Cambria/Somerset Court Appointed Special Advocates (CASA) for our annual basket party! \nWe will be hosting our annual Basket Party at Richland Fire Hall on Sunday March 18\, 2018. Admission includes lunch and 25 tickets\, but you’ll have the option to purchase another 25 tickets for just $5. \nProceeds from this event benefit our CASA program\, which allows us to advocate for children involved in the judicial and foster system through no fault of their own. Help us be A Voice for Abused and Neglected Children. \nIf you have any questions or would like to donate a basket\, feel free please call the Beginnings office at 539-1919 or email our Program Director Liz McGregor at lmcgregor@beginningsinc.org \nTickets are now on sale! Please call the Beginnings Inc office to purchase your tickets. (814)539-1919
URL:https://www.beginningsinc.org/event/casa-basket-party/
LOCATION:PA
ATTACH;FMTTYPE=:
END:VEVENT
BEGIN:VEVENT
DTSTART;TZID=America/New_York:20180316T100000
DTEND;TZID=America/New_York:20180316T120000
DTSTAMP:20260423T050852
CREATED:20180302T182237Z
LAST-MODIFIED:20180302T182237Z
UID:10000453-1521194400-1521201600@www.beginningsinc.org
SUMMARY:PACT (Parent and Child Together) Playgroup  Copy
DESCRIPTION:Structured Socialization\nFun & Hands-on\nReinforces All Areas of Development\nStimulating\nLearning by Doing\nIncludes Caregivers in Play\n\nFor children of all abilities\nBirth-age 5 & their siblings
URL:https://www.beginningsinc.org/event/pact-parent-and-child-together-playgroup-03162018-copy/
LOCATION:PA
ATTACH;FMTTYPE=:
END:VEVENT
BEGIN:VEVENT
DTSTART;TZID=America/New_York:20180312T100000
DTEND;TZID=America/New_York:20180312T140000
DTSTAMP:20260423T050852
CREATED:20180302T181231Z
LAST-MODIFIED:20180302T181231Z
UID:10000460-1520848800-1520863200@www.beginningsinc.org
SUMMARY:PACT (Parent and Child Together) Playgroup  Copy
DESCRIPTION:Structured Socialization\nFun & Hands-on\nReinforces All Areas of Development\nStimulating\nLearning by Doing\nIncludes Caregivers in Play\n\nFor children of all abilities\nBirth-age 5 & their siblings
URL:https://www.beginningsinc.org/event/pact-parent-and-child-together-playgroup-copy/
LOCATION:PA
END:VEVENT
BEGIN:VEVENT
DTSTART;TZID=America/New_York:20180309T100000
DTEND;TZID=America/New_York:20180309T120000
DTSTAMP:20260423T050852
CREATED:20180302T014456Z
LAST-MODIFIED:20180302T014456Z
UID:10000464-1520589600-1520596800@www.beginningsinc.org
SUMMARY:PACT (Parent and Child Together) Playgroup
DESCRIPTION:Structured Socialization\nFun & Hands-on\nReinforces All Areas of Development\nStimulating\nLearning by Doing\nIncludes Caregivers in Play\n\nFor children of all abilities\nBirth-age 5 & their siblings
URL:https://www.beginningsinc.org/event/pact-parent-and-child-together-playgroup-03092018/
LOCATION:PA
ATTACH;FMTTYPE=:
END:VEVENT
BEGIN:VEVENT
DTSTART;TZID=America/New_York:20180305T100000
DTEND;TZID=America/New_York:20180305T140000
DTSTAMP:20260423T050852
CREATED:20180302T181305Z
LAST-MODIFIED:20180302T181305Z
UID:10000459-1520244000-1520258400@www.beginningsinc.org
SUMMARY:PACT (Parent and Child Together) Playgroup  Copy
DESCRIPTION:Structured Socialization\nFun & Hands-on\nReinforces All Areas of Development\nStimulating\nLearning by Doing\nIncludes Caregivers in Play\n\nFor children of all abilities\nBirth-age 5 & their siblings
URL:https://www.beginningsinc.org/event/pact-parent-and-child-together-playgroup-copy-2/
LOCATION:PA
END:VEVENT
BEGIN:VEVENT
DTSTART;TZID=America/New_York:20180302T100000
DTEND;TZID=America/New_York:20180302T120000
DTSTAMP:20260423T050852
CREATED:20180302T012952Z
LAST-MODIFIED:20180302T012952Z
UID:10000466-1519984800-1519992000@www.beginningsinc.org
SUMMARY:PACT (Parent and Child Together) Playgroup
DESCRIPTION:Structured Socialization\nFun & Hands-on\nReinforces All Areas of Development\nStimulating\nLearning by Doing\nIncludes Caregivers in Play\n\nFor children of all abilities\nBirth-age 5 & their siblings
URL:https://www.beginningsinc.org/event/pact-parent-and-child-together-playgroup-03022018/
LOCATION:PA
ATTACH;FMTTYPE=:
END:VEVENT
BEGIN:VEVENT
DTSTART;TZID=America/New_York:20171209T190000
DTEND;TZID=America/New_York:20171209T190000
DTSTAMP:20260423T050852
CREATED:20180302T015317Z
LAST-MODIFIED:20180302T015317Z
UID:10000462-1512846000-1512846000@www.beginningsinc.org
SUMMARY:Star Wars Night
DESCRIPTION:Who is excited about the new Star Wars movie being released? WE are. \nAnd to celebrate that excitement Beginnings\, Inc. is happy to announce our partnership with the Johnstown Tomahawks for Star Wars Night on Saturday\, December 9th. \nAnyone purchasing their ticket for that night from Beginnings gets to sit in the special Beginnings section\, gets multiple opportunities to win exclusive prizes such as Star Wars and Tomahawk themed gifts AND the first 500 kids to come through the gates gets a commemorative light saber. \nAnd that’s just the beginning of the fun night with Beginnings. Call our office at 814-539-1919 or stop in at 111 Market St Johnstown and get your tickets NOW\, while supply lasts. For every ticket sold\, $3.00 gets donated to our kids programs.
URL:https://www.beginningsinc.org/event/star-wars-night/
LOCATION:PA
END:VEVENT
END:VCALENDAR